Workbook

Sheet Запит на закупівлю
H1: Необхідно заповнити клітинки, що виділено жовтим
A2: Порядковий номер закупівлі згідно плану закупівель: | D2: 2
A4: Дата формування запиту на закупівлю | D4: 45997
A5: Дата отримання запиту відділом закупівель
A8: Предмет закупівлі: | D8: Засоби особистої гігієни: дитячі підгузники
A9: Донор: | D9: Дитячий фонд ООН (ЮНІСЕФ) за підтримки Об'єднаної програми ООН з ВІЛ/СНІД
A10: Замовник: | D10: Благодійна організація "ПОЗИТИВНІ ЖІНКИ"
A11: Проект: | D11: "Assessment of HIV service for pregnant women, children, and adolescents living with HIV in Odesa and Dnipro to identify barriers and provide targeted support aimed at improving access to testing, treatment, and care for these vulnerable populations"
A12: Оплата ПДВ за проектом: | D12: Пропозиції приймаються від постачальників, які НЕ є платниками ПДВ, або готові пройти процедуру звільнення від ПДВ (згідно положень п. 26 підрозділу 2 розділу ХХ Податкового кодексу України та постанови Кабінету Міністрів України від 17.04.2013 р. № 284). Закупівля вважається такою, що відбулась за умови наявності мінімум трьох пропозицій від постачальників. Пропозиції подавати на загальний обсяг.
A13: Опис позицій до закупівлі товарів / технічне завдання для робіт та послуг | D13: Закупівля дитячих підгузників необхідна для надання допомоги жінкам-клієнткам проєкту, які мають дітей. Поставка здійснюється за рахунок коштів постачальника.
A14: 1
A15: Опис товарів, послуг або робіт
A16: № лоту* | B16: Назва товарів | C16: Одиниця виміру | D16: кількість | E16: Вимоги до товарів / технічні характеристики | F16: Терміни поставки товару
A17: 1 | B17: Підгузки розмір 3, 90-120 і більше шт в уп. (в залежності від виробника). | C17: шт | D17: 40 | E17: Підгузки, розмір 3 (5-10кг), 90-120 шт. в уп. (в залежності від виробника). Характеристики товару: можуть утримувати вологу до 12 годин, забезпечуючи абсолютну сухість; наявність поясоку, що тягнеться, який не натирає і не перетискає животик; матеріал внутрішнього шару з абсорбуючими компонентидля ефективного поглинання рідини; анатомічна модель, безпечні повітропроникні матеріали та відмінні вологовбиральні властивості. | F17: Замовлений товар постачається протягом 10 робочих днів з дати підписання угоди, строк постачання - червень-липень 2025 року, однією поставкою.
A18: 2 | B18: Підгузки-трусики розмір 4, від 80 і більше шт в уп. (в залежності від виробника). | C18: шт | D18: 80 | E18: Підгузки, розмір 4 (8-16 кг), 80-120 шт. в уп. (в залежності від виробника). Характеристики товару: можуть утримувати вологу до 13 годин, забезпечуючи абсолютну сухість; наявність поясоку, що тягнеться, який не натирає і не перетискає животик; матеріал внутрішнього шару з абсорбуючими компонентидля ефективного поглинання рідини; анатомічна модель, безпечні повітропроникні матеріали та відмінні вологовбиральні властивості. | F18: Замовлений товар постачається протягом 10 робочих днів з дати підписання угоди, строк постачання - червень-липень 2025 року, однією поставкою.
A19: 3 | B19: Підгузки-трусики розмір 5, від 80 і більше шт в уп. (в залежності від виробника). | C19: шт | D19: 140 | E19: Підгузки, розмір 5 (11-25 кг), 80-120 шт. в уп. (в залежності від виробника). Характеристики товару: можуть утримувати вологу до 14 годин, забезпечуючи абсолютну сухість; наявність поясоку, що тягнеться, який не натирає і не перетискає животик; матеріал внутрішнього шару з абсорбуючими компонентидля ефективного поглинання рідини; анатомічна модель, безпечні повітропроникні матеріали та відмінні вологовбиральні властивості. | F19: Замовлений товар постачається протягом 10 робочих днів з дати підписання угоди, строк постачання - червень-липень 2025 року, однією поставкою.
A20: 4 | B20: Підгузки-трусики розмір 6, від 80 і більше шт в уп. (в залежності від виробника). | C20: шт | D20: 140 | E20: Підгузки, розмір 3 (15-30 кг), 80-120 шт. в уп. (в залежності від виробника). Характеристики товару: можуть утримувати вологу до 15 годин, забезпечуючи абсолютну сухість; наявність поясоку, що тягнеться, який не натирає і не перетискає животик; матеріал внутрішнього шару з абсорбуючими компонентидля ефективного поглинання рідини; анатомічна модель, безпечні повітропроникні матеріали та відмінні вологовбиральні властивості. | F20: Замовлений товар постачається протягом 10 робочих днів з дати підписання угоди, строк постачання - червень-липень 2025 року, однією поставкою.
A21: * Пропозиції на майданчику подавати за загальний об`єм. Некоректно подані пропозиції будуть дискваліфіковані.
A22: ** Кількість може бути змінена в процесі дії угоди
A24: Критерії оцінки
A25: 1 | B25: Критерії оцінки | E25: Вага критерію | F25: Підверджуюча документація
A26: 1 | B26: Вартість товарів | E26: 1 | F26: Цінова пропозиція з підписом відповідальної особи та печаткою організації/ФОП (якщо є).
A27: 1
A28: Вимоги до постачальників товарів, надавачів послуг або виконавців робіт
A29: 1 | B29: Вимоги | F29: Підверджуюча документація
A30: 1 | B30: Наявність інтернет – сторінки (якщо є) | F30: має бути надана адреса інтернет сайту
A31: 2 | B31: Постачальник повинен разом з товаром надати документи, що підтверджують відповідність якості | F31: Товар має бути зареєстрований в Україні. Для підтвердження учасник надає копію сертифіката відповідності спеціальних харчових продуктів та копію документу щодо відповідності товарів вимогам діючого санітарного законодавства. Товар повинен мати підтвердження якості виробничого процесу даних продуктів.
A32: 3 | B32: Комерційні пропозиції приймаються без ПДВ | F32: Комерційна пропозиція
A33: 4 | B33: Право на здійснення підприємницької діяльності | F33: Повний пакет документів, які підтверджують правовий статус постачальника
A34: 1
A35: Умови співпраці, загальні вимоги до товарів
A36: 1 | B36: Загальний термін договору: | C36: Термін дії договору з дати укладення договору - до 31.12.2025. Всі розрахунки за договором проводяться до 29.12.2025 року, та в будь-якому випадку до повного виконання сторонами своїх обов'язків.
A37: 2 | B37: Умови оплати: | C37: 100% після плата здійснюється впродовж 3 робочих банківських днів з дня отримання товару та після підписання Продавцем та Покупцем видаткової накладної (акту приймання-передачі товару). Поставка здійснюється упродовж червня-липня 2025 року, виходячи із потреби замовника. Поставляється однією партією за адресами замовника.
A38: 3 | B38: Розрахунок: | C38: Безготівковий розрахунок
A39: 4 | B39: Умови постачання товарів, надання послуг або виконання робіт: | C39: Товар поставляється в мм.: Дніпро, Одеса. Детальна інформація по кількості буде надана переможцю після підписання договору. Безкоштовна доставка з вивантаженням до дверей. Постачальник несе відповідальність за збереження товару під час транспортування/доставки, у разі пошкодження товар не приймається та замінюється за рахунок постачальника
A40: 5 | B40: Можливість поставки товару частинами: | C40: Товар поставляється однією партією
A41: 6 | B41: Звільнення від ПДВ: | C41: Послуги, роботи та товари мають надаватись або постачатись без ПДВ.
A42: 7 | B42: Інші умови: | C42: Якщо число потенційних постачальників менше ніж 3 (три), дана закупівля переоголошується. Організація залишає за собою право в момент визначення переможця тендеру рекомендувати переможцю збільшити або зменшити на 15% обсяг послуг з відповідною зміною ціни або інших умов тендерної пропозиції. Організація залишає за собою право відмінити закупівлю без будь яких зобов’язань.
A43: Документи, що мають бути надані разом із ціновою пропозицією, в т.ч. документи, що підтверджують відповідність вимогам
A44: 1 | B44: Підприємства (ТОВ, ВАТ, ЗАТ, Приватні підприємства тощо) копії свідоцтва про державну реєстрацію юридичної особи (для зареєстрованих до 07.05.2011 року, якщо їм не було видано виписку) або Виписка з Єдиного державного реєстру юридичних осіб та фізичних осіб-підприємців та ліцензії (якщо вид діяльності ліцензується). Для фізичних осіб-підприємців (ФОП) на єдиному податку – копія свідоцтва про державну реєстрацію (для зареєстрованих до 07.05.2011 року, якщо їм не було видану Виписку) або Виписка з Єдиного державного реєстру юридичних осіб, фізичних осіб-підприємців та громадських формувань та копію діючої ліцензії (якщо вид діяльності ліцензується); Для фізичних осіб- підприємців (ФОП) на загальній системі оподаткування – копії свідоцтва про державну реєстрацію (для зареєстрованих до 07.05.2011 року, якщо їм не було видано Виписку) або Виписка з Єдиного державного реєстру юридичних осіб, фізичних осіб-підприємців та громадських формувань та ліцензії (якщо вид діяльності ліцензується).
...

Sheet Форма пропозиції (постачальник)
A1: Додаток 1 до Оголошення | J1: Необхідно заповнити клітинки, що виділено жовтим
A2: № | C2: про проведення конкурсних торгів
A3: ='Запит на закупівлю'!D8 -> Засоби особистої гігієни: дитячі підгузники
A5: Цінова пропозиція
A7: Відомості про компанію учасника
A8: 1 | B8: Найменування Учасника:
A9: 2 | B9: Код ЄДРПОУ
A10: 3 | B10: Юридична адреса:
A11: 4 | B11: Фактична адреса:
A12: 5 | B12: Дата державної реєстрації:
A13: 6 | B13: ПІБ та посада керівника:
A14: 7 | B14: Номер телефону керівника:
A15: 8 | B15: Контактна особа з питань подання пропозиції:
A16: 9 | B16: Номер моб. телефону контактної особи:
A17: 10 | B17: Електронна пошта керівника:
A18: 11 | B18: Електронна пошта контактної особи:
A19: 12 | B19: Адреса веб-сайту:
... A22: 15 | B22: Група платника єдиного податку (лише для платників єдиного податку
A24: № лоту* | B24: Назва товарів, послуг або робіт | C24: одиниця виміру | D24: кількість | E24: вимоги до товарів полуг або робіт / технічні характеристики | F24: Терміни надання послуг або робіт | G24: вартість одиниці, грн (без ПДВ) | H24: вартість всього, грн (без ПДВ)
A25: ='Запит на закупівлю'!A17 -> 1 | B25: ='Запит на закупівлю'!B17 -> Підгузки розмір 3, 90-120 і більше шт в уп. (в залежності від виробника). | C25: ='Запит на закупівлю'!C17 -> шт | D25: ='Запит на закупівлю'!D17 -> 40 | E25: ='Запит на закупівлю'!E17 -> Підгузки, розмір 3 (5-10кг), 90-120 шт. в уп. (в залежності від виробника). Характеристики товару: можуть утримувати вологу до 12 годин, забезпечуючи абсолютну сухість; наявність поясоку, що тягнеться, який не натирає і не перетискає животик; матеріал внутрішнього шару з абсорбуючими компонентидля ефективного поглинання рідини; анатомічна модель, безпечні повітропроникні матеріали та відмінні вологовбиральні властивості. | F25: ='Запит на закупівлю'!F17 -> Замовлений товар постачається протягом 10 робочих днів з дати підписання угоди, строк постачання - червень-липень 2025 року, однією поставкою. | H25: =D25*G25 -> 0
A26: =A25+1 -> 2 | B26: ='Запит на закупівлю'!B18 -> Підгузки-трусики розмір 4, від 80 і більше шт в уп. (в залежності від виробника). | C26: ='Запит на закупівлю'!C18 -> шт | D26: ='Запит на закупівлю'!D18 -> 80 | E26: ='Запит на закупівлю'!E18 -> Підгузки, розмір 4 (8-16 кг), 80-120 шт. в уп. (в залежності від виробника). Характеристики товару: можуть утримувати вологу до 13 годин, забезпечуючи абсолютну сухість; наявність поясоку, що тягнеться, який не натирає і не перетискає животик; матеріал внутрішнього шару з абсорбуючими компонентидля ефективного поглинання рідини; анатомічна модель, безпечні повітропроникні матеріали та відмінні вологовбиральні властивості. | F26: ='Запит на закупівлю'!F18 -> Замовлений товар постачається протягом 10 робочих днів з дати підписання угоди, строк постачання - червень-липень 2025 року, однією поставкою. | H26: =D26*G26 -> 0
A27: =A26+1 -> 3 | B27: ='Запит на закупівлю'!B19 -> Підгузки-трусики розмір 5, від 80 і більше шт в уп. (в залежності від виробника). | C27: ='Запит на закупівлю'!C19 -> шт | D27: ='Запит на закупівлю'!D19 -> 140 | E27: ='Запит на закупівлю'!E19 -> Підгузки, розмір 5 (11-25 кг), 80-120 шт. в уп. (в залежності від виробника). Характеристики товару: можуть утримувати вологу до 14 годин, забезпечуючи абсолютну сухість; наявність поясоку, що тягнеться, який не натирає і не перетискає животик; матеріал внутрішнього шару з абсорбуючими компонентидля ефективного поглинання рідини; анатомічна модель, безпечні повітропроникні матеріали та відмінні вологовбиральні властивості. | F27: ='Запит на закупівлю'!F19 -> Замовлений товар постачається протягом 10 робочих днів з дати підписання угоди, строк постачання - червень-липень 2025 року, однією поставкою. | H27: =D27*G27 -> 0
A28: =A27+1 -> 4 | B28: ='Запит на закупівлю'!B20 -> Підгузки-трусики розмір 6, від 80 і більше шт в уп. (в залежності від виробника). | C28: ='Запит на закупівлю'!C20 -> шт | D28: ='Запит на закупівлю'!D20 -> 140 | E28: ='Запит на закупівлю'!E20 -> Підгузки, розмір 3 (15-30 кг), 80-120 шт. в уп. (в залежності від виробника). Характеристики товару: можуть утримувати вологу до 15 годин, забезпечуючи абсолютну сухість; наявність поясоку, що тягнеться, який не натирає і не перетискає животик; матеріал внутрішнього шару з абсорбуючими компонентидля ефективного поглинання рідини; анатомічна модель, безпечні повітропроникні матеріали та відмінні вологовбиральні властивості. | F28: ='Запит на закупівлю'!F20 -> Замовлений товар постачається протягом 10 робочих днів з дати підписання угоди, строк постачання - червень-липень 2025 року, однією поставкою. | H28: =D28*G28 -> 0
B29: ЗАГАЛЬНА СУММА (цю сумму вказуємо на майданчику) | H29: =SUM(H25:H28) -> 0
A30: * Пропозиції на майданчику подавати за загальний об`єм. Некоректно подані пропозиції будуть дискваліфіковані.
A32: 1 | B32: Вимоги до надавачів послуг або виконавців робіт* | F32: Підверджуюча документація | G32: Відповідність вимогам (ТАК / НІ)
A33: ='Запит на закупівлю'!A30 -> 1 | B33: ='Запит на закупівлю'!B30:E30 -> Наявність інтернет – сторінки (якщо є) | F33: ='Запит на закупівлю'!F30 -> має бути надана адреса інтернет сайту
A34: ='Запит на закупівлю'!A31 -> 2 | B34: ='Запит на закупівлю'!B31:E31 -> Постачальник повинен разом з товаром надати документи, що підтверджують відповідність якості | F34: ='Запит на закупівлю'!F31 -> Товар має бути зареєстрований в Україні. Для підтвердження учасник надає копію сертифіката відповідності спеціальних харчових продуктів та копію документу щодо відповідності товарів вимогам діючого санітарного законодавства. Товар повинен мати підтвердження якості виробничого процесу даних продуктів.
A35: ='Запит на закупівлю'!A32 -> 3 | B35: ='Запит на закупівлю'!B32:E32 -> Комерційні пропозиції приймаються без ПДВ | F35: ='Запит на закупівлю'!F32 -> Комерційна пропозиція
A36: ='Запит на закупівлю'!A33 -> 4 | B36: ='Запит на закупівлю'!B33:E33 -> Право на здійснення підприємницької діяльності | F36: ='Запит на закупівлю'!F33 -> Повний пакет документів, які підтверджують правовий статус постачальника
A37: *Невідповідність зазначеним вимогам призводить до автоматичної дискваліфікації
A39: Умови співпраці, загальні вимоги до робіт та послуг* | G39: Відповідність вимогам (ТАК / НІ)
A40: ='Запит на закупівлю'!A36 -> 1 | B40: ='Запит на закупівлю'!B36 -> Загальний термін договору: | C40: ='Запит на закупівлю'!C36:F36 -> Термін дії договору з дати укладення договору - до 31.12.2025. Всі розрахунки за договором проводяться до 29.12.2025 року, та в будь-якому випадку до повного виконання сторонами своїх обов'язків.
A41: ='Запит на закупівлю'!A37 -> 2 | B41: ='Запит на закупівлю'!B37 -> Умови оплати: | C41: ='Запит на закупівлю'!C37:F37 -> 100% після плата здійснюється впродовж 3 робочих банківських днів з дня отримання товару та після підписання Продавцем та Покупцем видаткової накладної (акту приймання-передачі товару). Поставка здійснюється упродовж червня-липня 2025 року, виходячи із потреби замовника. Поставляється однією партією за адресами замовника.
A42: ='Запит на закупівлю'!A38 -> 3 | B42: ='Запит на закупівлю'!B38 -> Розрахунок: | C42: ='Запит на закупівлю'!C38:F38 -> Безготівковий розрахунок
A43: ='Запит на закупівлю'!A39 -> 4 | B43: ='Запит на закупівлю'!B39 -> Умови постачання товарів, надання послуг або виконання робіт: | C43: ='Запит на закупівлю'!C39:F39 -> Товар поставляється в мм.: Дніпро, Одеса. Детальна інформація по кількості буде надана переможцю після підписання договору. Безкоштовна доставка з вивантаженням до дверей. Постачальник несе відповідальність за збереження товару під час транспортування/доставки, у разі пошкодження товар не приймається та замінюється за рахунок постачальника
A44: ='Запит на закупівлю'!A40 -> 5 | B44: ='Запит на закупівлю'!B40 -> Можливість поставки товару частинами: | C44: ='Запит на закупівлю'!C40:F40 -> Товар поставляється однією партією
A45: ='Запит на закупівлю'!A41 -> 6 | B45: ='Запит на закупівлю'!B41 -> Звільнення від ПДВ: | C45: ='Запит на закупівлю'!C41:F41 -> Послуги, роботи та товари мають надаватись або постачатись без ПДВ.
A46: ='Запит на закупівлю'!A42 -> 7 | B46: ='Запит на закупівлю'!B42 -> Інші умови: | C46: ='Запит на закупівлю'!C42:F42 -> Якщо число потенційних постачальників менше ніж 3 (три), дана закупівля переоголошується. Організація залишає за собою право в момент визначення переможця тендеру рекомендувати переможцю збільшити або зменшити на 15% обсяг послуг з відповідною зміною ціни або інших умов тендерної пропозиції. Організація залишає за собою право відмінити закупівлю без будь яких зобов’язань.
A48: ='Запит на закупівлю'!A43 -> Документи, що мають бути надані разом із ціновою пропозицією, в т.ч. документи, що підтверджують відповідність вимогам
...
