Workbook
Name CAT1_05: '[1]Actual epxs & Projections_wks A'!$Z$28
Name CAT2_05: '[1]Actual epxs & Projections_wks A'!$Z$45
Name CAT3_05: '[1]Actual epxs & Projections_wks A'!$Z$53
Name CAT4_05: '[1]Actual epxs & Projections_wks A'!$Z$61
Name CAT5_05: '[1]Actual epxs & Projections_wks A'!$Z$80
Name CAT6_05: '[1]Actual epxs & Projections_wks A'!$Z$86
Name CAT7_05: '[1]Actual epxs & Projections_wks A'!$Z$180
Name COM2011LOT1percent13: '[2]FRONT PAGE'!#REF!
Name COM2011LOT1percent9: '[2]FRONT PAGE'!#REF!
Name Données: [3]Lots!$B$1:$F$21
Name Sociétés: '[3]Devis Contrat Cadre 2014'!$B$78:$B$87
Name valuevx: 42.314159

Sheet General Instructions
F1: Momentum Wheels for Humanity
A3: INSTRUCTIONS
B4: 1. At a minimum, the budget must include:
C5: a. An estimate of direct costs, which include all of the expenses that are required for, and can be tracked directly to, this grant activities. Direct Cost must be broken down by: (i) expenses sub-categories, (ii) expenses line, (iii) milestones/deliverables (if applying for Fixed Amount Award)
C6: b. Budget narrative must describe any assumptions or justifications underlying the estimates provided.
C7: c. As Unit choice use one of the following: *month, *hour, *LOE (level of effort), *item, *day, *night, *person, *lumpsum
B9: 2. Costs will be eligible only if they are expected to be incurred for the purpose of this grant activities and occur within the duration mentioned in the agreement (including any amendments thereof).
B11: 3. Additional rows and columns can be added wherever needed, however, the formula must be adjusted accordingly.
B13: 4. Indirect Costs may be included as follow:
C14: a. For Grant over US$50,000 is allowed to apply indirect rate mechanism in the regulations (NICRA, de minimus, or fixed amount)
C15: b. For Grant under US$50,000 Indirect Costs must be budgeted as direct costs
B17: 5. Exchange rate (UAH to USD) should be indicated together with a date of the stated rate and source (e.g.: OANDA, National Bank of Ukraine)
A19: GLOSSARY OF TERMS
C20: Below is a list of definitions and examples related to some terms in this template:
B21: Term | E21: Definition | F21: Examples
B22: Personnel and Fringe | E22: The cost associated directly with employees of the applicant to support implementation of the grant activities and all associate benefits, taxes, etc. | F22: * Full-time/Part-time employee salary * Income tax * Medical insurance
B23: Consultants and contractors costs | E23: The costs associated with hiring workers (not direct employees of the applicant) to assist with the planning, evaluation, development, or implementation of the grant support project activities. Consultants and contractors may be individuals, nonprofit or for-profit organizations, or other entities. | F23: * Communication consultant * Vendor providing service for the Grant activities
B24: Other direct costs | E24: Non-personnel, non-capitalized expenses that are necessary to complete the Grant activities. | F24: * Travel (e.g., transportation, lodging, M&EI, etc.) * Program Activities (e.g.: trainings, etc.) * Equipment (e.g., cameras, laptops required for the activities, etc.) * Operational Costs (e.g. office supplies, office rent, bank fees, etc.)
B25: Capital expenditures | E25: Expenses that are incurred to purchase equipment or other assets that have a useful life of more than one year and whose acquisition value is 500 USD or more. | F25: * Medcial equipment (e.g.: laboratory equipment, lab furniture etc.) * Vehicles (e.g. cars,vans, etc.) * Machinery (e.g., generators)
B26: Indirect costs | E26: Expenses incurred by an organization, such as administrative or other support functions, that are not linked to a specific Grant activity. | F26: * Office support staff who are not directly working on activities under the Grant * Meetings (e.g., Board of Directors, etc.)

Sheet Budget Narrative
A1: Organization Name: | B1: Name
A2: Project Title: | B2: Title
A3: Period of Performance: | B3: Start Date: | C3: Month XX. 20YY
B4: End Date: | C4: Month XX. 20YY
A5: DETAILED BUDGET | G5: BUDGET NARRATIVE
A6: Cost Category | B6: Unit/Одиниця | C6: Quantity/ К-ть | D6: Allocation, % | E6: Unit Cost | F6: Total/Всього
A7: I. PERSONNEL | F7: UAH | G7: Describe main tasks and deliverables
A8: … | F8: =C8*D8*E8 -> 0
A9: … | F9: =C9*D9*E9 -> 0
A10: … | F10: =C10*D10*E10 -> 0
A11: … | F11: =C11*D11*E11 -> 0
A12: … | F12: =C12*D12*E12 -> 0
A13: … | F13: =C13*D13*E13 -> 0
A14: … | F14: =C14*D14*E14 -> 0
A15: Total Personnel | F15: =SUM(F9:F14) -> 0
A16: II. FRINGE BENEFITS | G16: Provide % of fringe benefits and what is included under Fringe
A17: … | F17: =C17*D17*E17 -> 0
A18: … | F18: =C18*D18*E18 -> 0
A19: … | F19: =C19*D19*E19 -> 0
A20: … | F20: =C20*D20*E20 -> 0
A21: … | F21: =C21*D21*E21 -> 0
A22: … | F22: =C22*D22*E22 -> 0
A23: Total Fringe Benefits | F23: =SUM(F17:F22) -> 0
A24: III.TRAVEL AND TRANSPORTATION | G24: Provide details on activity supported
A25: Airfare
A26: … | F26: =C26*D26*E26 -> 0
A27: … | F27: =C27*D27*E27 -> 0
A28: M&EI
A29: … | F29: =C29*D29*E29 -> 0
A30: … | F30: =C30*D30*E30 -> 0
A31: Lodging
A32: … | F32: =C32*D32*E32 -> 0
A33: … | F33: =C33*D33*E33 -> 0
A34: Ground Transportation
A35: … | F35: =C35*D35*E35 -> 0
A36: … | F36: =C36*D36*E36 -> 0
A37: Total Travel and Transportation | F37: =SUM(F25:F36) -> 0
A38: IV. EQUIPMENT ( > USD5,000) | G38: Provide details on quantity and specification
A39: … | F39: =C39*D39*E39 -> 0
A40: … | F40: =C40*D40*E40 -> 0
...

Sheet Budget Details
A1: ='Budget Narrative'!A1 -> Organization Name: | B1: ='Budget Narrative'!B1 -> Name | H1: ONLY for FIXED AMOUNT AWARDS
A2: Project Title: | B2: ='Budget Narrative'!B2 -> Title | I2: Milestone 1 | M2: Milestone 2 | Q2: Milestone 3 | U2: Milestone 4
A3: Period of Performance: | B3: ='Budget Narrative'!B3 -> Start Date: | C3: ='Budget Narrative'!C3 -> Month XX. 20YY | H3: Description of Milestone: | I3: (Brief description of the milestone activity] | M3: (Brief description of the milestone activity] | Q3: (Brief description of the milestone activity] | U3: (Brief description of the milestone activity]
B4: ='Budget Narrative'!B4 -> End Date: | C4: ='Budget Narrative'!C4 -> Month XX. 20YY | H4: insert from the Activity Implementation Plan
A5: DETAILED BUDGET
A6: ='Budget Narrative'!A6 -> Cost Category | B6: Unit/Одиниця | C6: Quantity/ К-ть | D6: Allocation, %/ | E6: Unit Cost | F6: ='Budget Narrative'!F6 -> Total/Всього | I6: qty | J6: allocation | K6: unit cost | L6: amount | M6: qty | N6: allocation | O6: unit cost | P6: amount | Q6: qty | R6: allocation | S6: unit cost | T6: amount | U6: qty | V6: allocation | W6: unit cost | X6: amount | Y6: TOTAL
A7: ='Budget Narrative'!A7 -> I. PERSONNEL | F7: ='Budget Narrative'!F7 -> UAH
A8: ='Budget Narrative'!A8 -> … | B8: 0 | C8: ='Budget Narrative'!C8 -> 0 | D8: ='Budget Narrative'!D8 -> 0 | E8: ='Budget Narrative'!E8 -> 0 | F8: ='Budget Narrative'!F8 -> 0 | L8: =I8*J8*K8 -> 0 | P8: =M8*N8*O8 -> 0 | T8: =Q8*R8*S8 -> 0 | X8: =U8*V8*W8 -> 0 | Y8: =L8+P8+T8+X8 -> 0
A9: ='Budget Narrative'!A9 -> … | B9: ='Budget Narrative'!B9 -> 0 | C9: ='Budget Narrative'!C9 -> 0 | D9: ='Budget Narrative'!D9 -> 0 | E9: ='Budget Narrative'!E9 -> 0 | F9: ='Budget Narrative'!F9 -> 0 | L9: =I9*J9*K9 -> 0 | P9: =M9*N9*O9 -> 0 | T9: =Q9*R9*S9 -> 0 | X9: =U9*V9*W9 -> 0 | Y9: =L9+P9+T9+X9 -> 0
A10: ='Budget Narrative'!A10 -> … | B10: ='Budget Narrative'!B10 -> 0 | C10: ='Budget Narrative'!C10 -> 0 | D10: ='Budget Narrative'!D10 -> 0 | E10: ='Budget Narrative'!E10 -> 0 | F10: ='Budget Narrative'!F10 -> 0 | L10: =I10*J10*K10 -> 0 | P10: =M10*N10*O10 -> 0 | T10: =Q10*R10*S10 -> 0 | X10: =U10*V10*W10 -> 0 | Y10: =L10+P10+T10+X10 -> 0
A11: ='Budget Narrative'!A11 -> … | B11: ='Budget Narrative'!B11 -> 0 | C11: ='Budget Narrative'!C11 -> 0 | D11: ='Budget Narrative'!D11 -> 0 | E11: ='Budget Narrative'!E11 -> 0 | F11: ='Budget Narrative'!F11 -> 0 | L11: =I11*J11*K11 -> 0 | P11: =M11*N11*O11 -> 0 | T11: =Q11*R11*S11 -> 0 | X11: =U11*V11*W11 -> 0 | Y11: =L11+P11+T11+X11 -> 0
A12: ='Budget Narrative'!A12 -> … | B12: ='Budget Narrative'!B12 -> 0 | C12: ='Budget Narrative'!C12 -> 0 | D12: ='Budget Narrative'!D12 -> 0 | E12: ='Budget Narrative'!E12 -> 0 | F12: ='Budget Narrative'!F12 -> 0 | L12: =I12*J12*K12 -> 0 | P12: =M12*N12*O12 -> 0 | T12: =Q12*R12*S12 -> 0 | X12: =U12*V12*W12 -> 0 | Y12: =L12+P12+T12+X12 -> 0
A13: ='Budget Narrative'!A13 -> … | B13: ='Budget Narrative'!B13 -> 0 | C13: ='Budget Narrative'!C13 -> 0 | D13: ='Budget Narrative'!D13 -> 0 | E13: ='Budget Narrative'!E13 -> 0 | F13: ='Budget Narrative'!F13 -> 0 | L13: =I13*J13*K13 -> 0 | P13: =M13*N13*O13 -> 0 | T13: =Q13*R13*S13 -> 0 | X13: =U13*V13*W13 -> 0 | Y13: =L13+P13+T13+X13 -> 0
A14: ='Budget Narrative'!A14 -> … | B14: ='Budget Narrative'!B14 -> 0 | C14: ='Budget Narrative'!C14 -> 0 | D14: ='Budget Narrative'!D14 -> 0 | E14: ='Budget Narrative'!E14 -> 0 | F14: ='Budget Narrative'!F14 -> 0 | L14: =I14*J14*K14 -> 0 | P14: =M14*N14*O14 -> 0 | T14: =Q14*R14*S14 -> 0 | X14: =U14*V14*W14 -> 0 | Y14: =L14+P14+T14+X14 -> 0
A15: ='Budget Narrative'!A15 -> Total Personnel | B15: ='Budget Narrative'!B15 -> 0 | C15: ='Budget Narrative'!C15 -> 0 | E15: ='Budget Narrative'!#REF! -> #REF! | F15: ='Budget Narrative'!F15 -> 0 | L15: =SUM(L8:L14) -> 0 | P15: =SUM(P8:P14) -> 0 | T15: =SUM(T8:T14) -> 0 | X15: =SUM(X8:X14) -> 0 | Y15: =SUM(Y8:Y14) -> 0
A16: ='Budget Narrative'!A16 -> II. FRINGE BENEFITS
A17: ='Budget Narrative'!A17 -> … | B17: ='Budget Narrative'!B17 -> 0 | C17: ='Budget Narrative'!C17 -> 0 | D17: ='Budget Narrative'!D17 -> 0 | E17: ='Budget Narrative'!E17 -> 0 | F17: ='Budget Narrative'!F17 -> 0 | L17: =I17*J17*K17 -> 0 | P17: =M17*N17*O17 -> 0 | T17: =Q17*R17*S17 -> 0 | X17: =U17*V17*W17 -> 0 | Y17: =L17+P17+T17+X17 -> 0
A18: ='Budget Narrative'!A18 -> … | B18: ='Budget Narrative'!B18 -> 0 | C18: ='Budget Narrative'!C18 -> 0 | D18: ='Budget Narrative'!D18 -> 0 | E18: ='Budget Narrative'!E18 -> 0 | F18: ='Budget Narrative'!F18 -> 0 | L18: =I18*J18*K18 -> 0 | P18: =M18*N18*O18 -> 0 | T18: =Q18*R18*S18 -> 0 | X18: =U18*V18*W18 -> 0 | Y18: =L18+P18+T18+X18 -> 0
A19: ='Budget Narrative'!A19 -> … | B19: ='Budget Narrative'!B19 -> 0 | C19: ='Budget Narrative'!C19 -> 0 | D19: ='Budget Narrative'!D19 -> 0 | E19: ='Budget Narrative'!E19 -> 0 | F19: ='Budget Narrative'!F19 -> 0 | L19: =I19*J19*K19 -> 0 | P19: =M19*N19*O19 -> 0 | T19: =Q19*R19*S19 -> 0 | X19: =U19*V19*W19 -> 0 | Y19: =L19+P19+T19+X19 -> 0
A20: ='Budget Narrative'!A20 -> … | B20: ='Budget Narrative'!B20 -> 0 | C20: ='Budget Narrative'!C20 -> 0 | D20: ='Budget Narrative'!D20 -> 0 | E20: ='Budget Narrative'!E20 -> 0 | F20: ='Budget Narrative'!F20 -> 0 | L20: =I20*J20*K20 -> 0 | P20: =M20*N20*O20 -> 0 | T20: =Q20*R20*S20 -> 0 | X20: =U20*V20*W20 -> 0 | Y20: =L20+P20+T20+X20 -> 0
A21: ='Budget Narrative'!A21 -> … | B21: ='Budget Narrative'!B21 -> 0 | C21: ='Budget Narrative'!C21 -> 0 | D21: ='Budget Narrative'!D21 -> 0 | E21: ='Budget Narrative'!E21 -> 0 | F21: ='Budget Narrative'!F21 -> 0 | L21: =I21*J21*K21 -> 0 | P21: =M21*N21*O21 -> 0 | T21: =Q21*R21*S21 -> 0 | X21: =U21*V21*W21 -> 0 | Y21: =L21+P21+T21+X21 -> 0
A22: ='Budget Narrative'!A22 -> … | B22: ='Budget Narrative'!B22 -> 0 | C22: ='Budget Narrative'!C22 -> 0 | D22: ='Budget Narrative'!D22 -> 0 | E22: ='Budget Narrative'!E22 -> 0 | F22: ='Budget Narrative'!F22 -> 0 | L22: =I22*J22*K22 -> 0 | P22: =M22*N22*O22 -> 0 | T22: =Q22*R22*S22 -> 0 | X22: =U22*V22*W22 -> 0 | Y22: =L22+P22+T22+X22 -> 0
A23: ='Budget Narrative'!A23 -> Total Fringe Benefits | B23: ='Budget Narrative'!B23 -> 0 | C23: ='Budget Narrative'!C23 -> 0 | E23: ='Budget Narrative'!#REF! -> #REF! | F23: ='Budget Narrative'!F23 -> 0 | L23: =SUM(L17:L22) -> 0 | P23: =SUM(P17:P22) -> 0 | T23: =SUM(T17:T22) -> 0 | X23: =SUM(X17:X22) -> 0 | Y23: =SUM(Y17:Y22) -> 0
A24: ='Budget Narrative'!A24 -> III.TRAVEL AND TRANSPORTATION
A25: ='Budget Narrative'!A25 -> Airfare
A26: ='Budget Narrative'!A26 -> … | B26: ='Budget Narrative'!B28 -> 0 | C26: ='Budget Narrative'!C28 -> 0 | D26: ='Budget Narrative'!D28 -> 0 | E26: ='Budget Narrative'!E28 -> 0 | F26: ='Budget Narrative'!F28 -> 0 | L26: =I26*J26*K26 -> 0 | P26: =M26*N26*O26 -> 0 | T26: =Q26*R26*S26 -> 0 | X26: =U26*V26*W26 -> 0 | Y26: =L26+P26+T26+X26 -> 0
A27: ='Budget Narrative'!A27 -> … | B27: ='Budget Narrative'!B29 -> 0 | C27: ='Budget Narrative'!C29 -> 0 | D27: ='Budget Narrative'!D29 -> 0 | E27: ='Budget Narrative'!E29 -> 0 | F27: ='Budget Narrative'!F31 -> 0 | L27: =I27*J27*K27 -> 0 | P27: =M27*N27*O27 -> 0 | T27: =Q27*R27*S27 -> 0 | X27: =U27*V27*W27 -> 0 | Y27: =L27+P27+T27+X27 -> 0
A28: ='Budget Narrative'!A28 -> M&EI
A29: ='Budget Narrative'!A29 -> … | B29: ='Budget Narrative'!B33 -> 0 | C29: ='Budget Narrative'!C33 -> 0 | D29: ='Budget Narrative'!D33 -> 0 | E29: ='Budget Narrative'!E33 -> 0 | F29: ='Budget Narrative'!F33 -> 0 | L29: =I29*J29*K29 -> 0 | P29: =M29*N29*O29 -> 0 | T29: =Q29*R29*S29 -> 0 | X29: =U29*V29*W29 -> 0 | Y29: =L29+P29+T29+X29 -> 0
A30: ='Budget Narrative'!A30 -> … | B30: ='Budget Narrative'!B34 -> 0 | C30: ='Budget Narrative'!C34 -> 0 | D30: ='Budget Narrative'!D34 -> 0 | E30: ='Budget Narrative'!E34 -> 0 | F30: ='Budget Narrative'!F34 -> 0 | L30: =I30*J30*K30 -> 0 | P30: =M30*N30*O30 -> 0 | T30: =Q30*R30*S30 -> 0 | X30: =U30*V30*W30 -> 0 | Y30: =L30+P30+T30+X30 -> 0
A31: ='Budget Narrative'!A31 -> Lodging
A32: ='Budget Narrative'!A35 -> … | B32: ='Budget Narrative'!B36 -> 0 | C32: ='Budget Narrative'!C36 -> 0 | D32: ='Budget Narrative'!D36 -> 0 | E32: ='Budget Narrative'!E36 -> 0 | F32: ='Budget Narrative'!F36 -> 0 | L32: =I32*$B32 -> 0 | P32: =M32*N32*O32 -> 0 | T32: =Q32*R32*S32 -> 0 | X32: =U32*V32*W32 -> 0 | Y32: =L32+P32+T32+X32 -> 0
B33: ='Budget Narrative'!B37 -> 0 | C33: ='Budget Narrative'!C37 -> 0 | D33: ='Budget Narrative'!D37 -> 0 | E33: ='Budget Narrative'!E37 -> 0 | F33: ='Budget Narrative'!F37 -> 0 | L33: =I33*$B33 -> 0 | P33: =M33*N33*O33 -> 0 | T33: =Q33*R33*S33 -> 0 | X33: =U33*V33*W33 -> 0 | Y33: =L33+P33+T33+X33 -> 0
A34: ='Budget Narrative'!A34 -> Ground Transportation
A35: ='Budget Narrative'!A35 -> … | B35: ='Budget Narrative'!B39 -> 0 | C35: ='Budget Narrative'!C39 -> 0 | D35: ='Budget Narrative'!D39 -> 0 | E35: ='Budget Narrative'!E39 -> 0 | F35: ='Budget Narrative'!F39 -> 0 | L35: =I35*J35*K35 -> 0 | P35: =M35*N35*O35 -> 0 | T35: =Q35*R35*S35 -> 0 | X35: =U35*V35*W35 -> 0 | Y35: =L35+P35+T35+X35 -> 0
A36: ='Budget Narrative'!A36 -> … | B36: ='Budget Narrative'!B40 -> 0 | C36: ='Budget Narrative'!C40 -> 0 | D36: ='Budget Narrative'!D40 -> 0 | E36: ='Budget Narrative'!E40 -> 0 | F36: ='Budget Narrative'!F40 -> 0 | L36: =I36*J36*K36 -> 0 | P36: =M36*N36*O36 -> 0 | T36: =Q36*R36*S36 -> 0 | X36: =U36*V36*W36 -> 0 | Y36: =L36+P36+T36+X36 -> 0
A37: ='Budget Narrative'!A37 -> Total Travel and Transportation | B37: ='Budget Narrative'!B37 -> 0 | C37: ='Budget Narrative'!C37 -> 0 | E37: ='Budget Narrative'!#REF! -> #REF! | F37: ='Budget Narrative'!F37 -> 0 | L37: =SUM(L26:L36) -> 0 | P37: =SUM(P26:P36) -> 0 | T37: =SUM(T26:T36) -> 0 | X37: =SUM(X26:X36) -> 0 | Y37: =SUM(Y26:Y36) -> 0
A38: ='Budget Narrative'!A38 -> IV. EQUIPMENT ( > USD5,000)
A39: ='Budget Narrative'!A39 -> … | B39: ='Budget Narrative'!B39 -> 0 | C39: ='Budget Narrative'!C39 -> 0 | D39: ='Budget Narrative'!D39 -> 0 | E39: ='Budget Narrative'!E39 -> 0 | F39: ='Budget Narrative'!F39 -> 0 | L39: 0 | P39: =M39*N39*O39 -> 0 | T39: =Q39*R39*S39 -> 0 | X39: =U39*V39*W39 -> 0 | Y39: =L39+P39+T39+X39 -> 0
A40: ='Budget Narrative'!A40 -> … | B40: ='Budget Narrative'!B40 -> 0 | C40: ='Budget Narrative'!C40 -> 0 | D40: ='Budget Narrative'!D40 -> 0 | E40: ='Budget Narrative'!E40 -> 0 | F40: ='Budget Narrative'!F40 -> 0 | L40: =I40*J40*K40 -> 0 | P40: =M40*N40*O40 -> 0 | T40: =Q40*R40*S40 -> 0 | X40: =U40*V40*W40 -> 0 | Y40: =L40+P40+T40+X40 -> 0
...

Sheet Budget Summary SGA
A1: Organization Name: | B1: ='Budget Details'!$B$1 -> Name
A2: Project Title: | B2: ='Budget Details'!$B$2 -> Title
A3: Period of Performance: | B3: Start Date: | C3: ='Budget Details'!$C$3 -> Month XX. 20YY
B4: End Date: | C4: ='Budget Details'!$C$4 -> Month XX. 20YY
B5: Grant Y1 | F5: Grant Total
B6: Grant Funds | D6: Other sources | F6: Grant Program Total | H6: Name of Organization for other sources
A7: Budget Item | B7: UAH | C7: USD | D7: UAH | E7: USD | F7: UAH | G7: USD
A8: ='Budget Details'!A7 -> I. PERSONNEL | B8: ='Budget Details'!$F$15 -> 0 | C8: =B8*'Budget Details'!$B$86 -> 0 | F8: =B8+D8 -> 0 | G8: =C8+E8 -> 0
A9: ='Budget Details'!A16 -> II. FRINGE BENEFITS | B9: ='Budget Details'!$F$23 -> 0 | C9: =B9*'Budget Details'!$B$86 -> 0 | F9: =B9+D9 -> 0 | G9: =C9+E9 -> 0
A10: ='Budget Details'!A24 -> III.TRAVEL AND TRANSPORTATION | B10: ='Budget Details'!$F$37 -> 0 | C10: =B10*'Budget Details'!$B$86 -> 0 | F10: =B10+D10 -> 0 | G10: =C10+E10 -> 0
A11: ='Budget Details'!A38 -> IV. EQUIPMENT ( > USD5,000) | B11: ='Budget Details'!$F$46 -> 0 | C11: =B11*'Budget Details'!$B$86 -> 0 | F11: =B11+D11 -> 0 | G11: =C11+E11 -> 0
A12: ='Budget Details'!A47 -> V. SUPPLIES | B12: ='Budget Details'!$F$54 -> 0 | C12: =B12*'Budget Details'!$B$86 -> 0 | F12: =B12+D12 -> 0 | G12: =C12+E12 -> 0
A13: ='Budget Details'!A55 -> VI. CONTRACTUAL | B13: ='Budget Details'!$F$63 -> 0 | C13: =B13*'Budget Details'!$B$86 -> 0 | F13: =B13+D13 -> 0 | G13: =C13+E13 -> 0
A14: ='Budget Details'!A64 -> VII. OTHER DIRECT COSTS | B14: ='Budget Details'!$F$79 -> 0 | C14: =B14*'Budget Details'!$B$86 -> 0 | F14: =B14+D14 -> 0 | G14: =C14+E14 -> 0
A15: ='Budget Details'!A80 -> VIII. INDIRECT COSTS | B15: ='Budget Details'!$F$83 -> 0 | C15: =B15*'Budget Details'!$B$86 -> 0 | F15: =B15+D15 -> 0 | G15: =C15+E15 -> 0
A16: Total Grant Budget | B16: =SUM(B8:B15) -> 0 | C16: =SUM(C8:C15) -> 0 | D16: =SUM(D8:D15) -> 0 | E16: =SUM(E8:E15) -> 0 | F16: =SUM(F8:F15) -> 0 | G16: =SUM(G8:G15) -> 0

Sheet Budget Summary FAA
A1: Organization Name: | C1: ='Budget Details'!$B$1 -> Name
A2: Project Title: | C2: ='Budget Details'!$B$2 -> Title
A3: Period of Performance: | C3: Start Date: | D3: ='Budget Details'!$C$3 -> Month XX. 20YY
C4: End Date: | D4: ='Budget Details'!$C$4 -> Month XX. 20YY
C5: Grant Funds | E5: Other sources | G5: Grant Program Total | I5: Name of Organization for other sources
A6: Budget Item | C6: UAH | D6: USD | E6: UAH | F6: USD | G6: UAH | H6: USD
A7: ='Budget Details'!$I$2 -> Milestone 1 | B7: ='Budget Details'!$I$3 -> (Brief description of the milestone activity] | C7: ='Budget Details'!L84 -> 0 | D7: ='Budget Details'!L85 -> 0 | G7: =C7+E7 -> 0 | H7: =D7+F7 -> 0
A8: ='Budget Details'!M2 -> Milestone 2 | B8: ='Budget Details'!$M$3 -> (Brief description of the milestone activity] | C8: ='Budget Details'!P84 -> 0 | D8: ='Budget Details'!P85 -> 0 | G8: =C8+E8 -> 0 | H8: =D8+F8 -> 0
A9: ='Budget Details'!Q2 -> Milestone 3 | B9: ='Budget Details'!$Q$3 -> (Brief description of the milestone activity] | C9: ='Budget Details'!T84 -> 0 | D9: ='Budget Details'!T85 -> 0 | G9: =C9+E9 -> 0 | H9: =D9+F9 -> 0
A10: ='Budget Details'!U2 -> Milestone 4 | B10: ='Budget Details'!$U$3 -> (Brief description of the milestone activity] | C10: ='Budget Details'!X84 -> 0 | D10: ='Budget Details'!X85 -> 0 | G10: =C10+E10 -> 0 | H10: =D10+F10 -> 0
A11: Total Grant Budget | C11: =SUM(C7:C10) -> 0 | D11: =SUM(D7:D10) -> 0 | E11: =SUM(E7:E10) -> 0 | F11: =SUM(F7:F10) -> 0 | G11: =SUM(G7:G10) -> 0 | H11: =SUM(H7:H10) -> 0
