Workbook

Sheet Розділ 1
A1: Технічне завдання
A2: Проведення реконструкції спортивної зали в ЗОШ №20, м. Чернігів
A3: Об'єкт: Завершення ремонту основного приміщення
A4: №п/п | B4: Найменуванння робіт | C4: Од. вим. | D4: Р о б о т а | G4: М а т е р і а л и
D5: Кіл-сть | E5: Ціна, грн | F5: Сумма, грн | G5: Найменування матеріалів | H5: Од. вим. | I5: Норма витрат | J5: Кіл-сть | K5: Ціна, грн | L5: Сумма, грн
A6: 1 | B6: 2 | C6: 3 | D6: 4 | E6: 5 | F6: 6 | G6: 7 | H6: 8 | I6: 9 | J6: 10 | K6: 11 | L6: 12
B7: Стіни (спортзал)
B8: Грунтування стін | C8: м2 | D8: 212.5 | F8: =D8*E8 -> 0 | G8: Грунтівка Ceresit CT-16 | H8: кг | I8: 0.65 | J8: =D8*I8 -> 138.125 | L8: =J8*K8 -> 0
B9: Фарбування стін (2 шари) | C9: м2 | D9: 212.5 | F9: =D9*E9 -> 0 | G9: Фарба водоемульсійна (Ceresit IN 53+пігмент) | H9: л | I9: 0.35 | J9: =I9*D9 -> 74.375 | L9: =J9*K9 -> 0
B10: Обшивка стін спортивними матами | C10: м2 | D10: 74.5 | F10: =D10*E10 -> 0 | G10: Стінові протекори 20мм | H10: м2 | I10: 1 | J10: =I10*D10 -> 74.5 | L10: =J10*K10 -> 0
B11: Демонтаж простінка | C11: м3 | D11: 1.4 | F11: =D11*E11 -> 0
B12: Установка вітражу з дверима з алюмінієвого профіля | C12: м2 | D12: 7.67 | F12: =D12*E12 -> 0 | G12: Вітраж з дверима із алюмінієвого профіля (протипожежні) | H12: м2 | I12: 1 | J12: =I12*D12 -> 7.67 | L12: =J12*K12 -> 0
B13: Навішування коробів на стіни (захист для труб опалення) | C13: м.п | D13: 46 | F13: =D13*E13 -> 0 | G13: Короб для труб з оцинкованої сталі з полімерним покриттям | H13: м.п | I13: 1.1 | J13: =I13*D13 -> 50.6 | L13: =J13*K13 -> 0
B14: Стелі (спортзал)
B15: Грунтування стель та балок покриття | C15: м2 | D15: 293 | F15: =D15*E15 -> 0 | G15: Грунтівка Ceresit CT-16 | H15: кг | I15: 0.65 | J15: =D15*I15 -> 190.45 | L15: =J15*K15 -> 0
B16: Фарбування стель та балок покриття (2 шари) | C16: м2 | D16: 293 | F16: =D16*E16 -> 0 | G16: Фарба водоемульсійна (Ceresit IN 53+пігмент) | H16: л | I16: 0.35 | J16: =I16*D16 -> 102.55 | L16: =J16*K16 -> 0
B17: Внутрішні віконні та дверні відкоси
B18: Грунтування відкосів (130,8 м.п) | C18: м2 | D18: 45.15 | F18: =D18*E18 -> 0 | G18: Грунтівка Ceresit CT-16 | H18: кг | I18: 0.65 | J18: =I18*D18 -> 29.3475 | L18: =J18*K18 -> 0
B19: Фарбування відкосів (130,8 м.п) | C19: м2 | D19: 45.15 | F19: =D19*E19 -> 0 | G19: Фарба водоемульсійна (Ceresit IN 53+пігмент) | H19: л | I19: 0.35 | J19: =I19*D19 -> 15.8025 | L19: =J19*K19 -> 0
B20: Монтаж алюмінієвих кутиків на відкоси | C20: м.п | D20: 72 | F20: =D20*E20 -> 0 | G20: Кутик алюмінієвий 20х20 мм анод. | H20: м.п | I20: 1.1 | J20: =I20*D20 -> 79.2 | L20: =J20*K20 -> 0
G21: Клей монтажний Pattex Fix (0.385 кг) | H21: шт | J21: 12 | L21: =J21*K21 -> 0
B22: Захисні сітки
B23: Навішування захисних сіток | C23: м2 | D23: 185 | F23: =D23*E23 -> 0 | G23: Сітка захисна поліпропіленова Ø4,5 75х75 | H23: м2 | I23: 1.1 | J23: =I23*D23 -> 203.5 | L23: =J23*K23 -> 0
G24: Трос для кріплення стальний оцинкований DIN 3055 4 мм | H24: м.п | J24: 200 | L24: =J24*K24 -> 0
G25: Кронштейн з дюбелем для кріплення сітки | H25: шт | J25: 650 | L25: =J25*K25 -> 0
B26: Електротехнічні роботи
B27: Світильник стельовий (з захисним екраном) | C27: комплект | D27: 4 | F27: =D27*E27 -> 0 | G27: Модульна система освітлення МСО 03.2В/02.М з комутаційним обладненням | H27: комплект | J27: 4 | L27: =J27*K27 -> 0
B28: Прокладка кабеля в лотках | C28: м | D28: 50 | F28: =D28*E28 -> 0 | G28: Дротовий лоток 100*150 гальваніка, довжина 3000мм FC1015 | H28: м | J28: 48 | L28: =J28*K28 -> 0
B29: Налагоджування освітлення та комутація системи | C29: посл | D29: 1 | F29: =D29*E29 -> 0
B30: Світильники (настінні герметичні) | C30: шт | D30: 3 | F30: =D30*E30 -> 0 | G30: Світильник настінний герметичний коло | H30: шт | J30: 3 | L30: =J30*K30 -> 0
B31: Кабель відкрита прокладка перетином до 6 мм² (на висоті) | C31: м.п | D31: 75 | F31: =D31*E31 -> 0 | G31: Кабель ВВГнгдП 3 х 1.5 | H31: м.п | I31: 1.1 | J31: =I31*D31 -> 82.5 | L31: =J31*K31 -> 0
B32: Кабель відкрита прокладка перетином від 6 до 35 мм² | C32: м.п | D32: 50 | F32: =D32*E32 -> 0 | G32: Кабель ВВГнгдП 3 х 2.5 | I32: 2.1 | J32: =I32*D32 -> 105 | L32: =J32*K32 -> 0
B33: Установка та розпаювання розподільчих коробок | C33: шт | D33: 2 | F33: =D33*E33 -> 0 | G33: Коробка розподільча | H33: шт | I33: 1 | J33: =I33*D33 -> 2 | L33: =J33*K33 -> 0
B34: Установка підрозетників | C34: шт | D34: 5 | F34: =D34*E34 -> 0 | G34: Підрозетник | H34: шт | I34: 1 | J34: =I34*D34 -> 5 | L34: =J34*K34 -> 0
B35: Установка розеток | C35: шт | D35: 1 | F35: =D35*E35 -> 0 | G35: Розетка 2-на з/з | H35: шт | I35: 1 | J35: =I35*D35 -> 1 | L35: =J35*K35 -> 0
G36: Рамка 3-на вертикальна | H36: шт | J36: 1 | L36: =J36*K36 -> 0
B37: Установка вимикачів | C37: шт | D37: 2 | F37: =D37*E37 -> 0 | G37: Вимикач 2-х клавішний | H37: шт | I37: 1 | J37: =I37*D37 -> 2 | L37: =J37*K37 -> 0
B38: Установка щитів | C38: шт | D38: 1 | F38: =D38*E38 -> 0 | G38: Щит розподільчий ЩРн-24з-0 | H38: шт | I38: 1 | J38: =I38*D38 -> 1 | L38: =J38*K38 -> 0
B39: Підключення щита | C39: шт | D39: 1 | F39: =D39*E39 -> 0 | G39: Кабель ВВГ 3х4 | H39: м.п | J39: 15 | L39: =J39*K39 -> 0
G40: Гофротруба Ø32 мм | H40: м.п | J40: 15 | L40: =J40*K40 -> 0
...

Sheet Розділ 2
A1: Технічне завдання
A2: Проведення реконструкції спортивної зали в ЗОШ №20, м. Чернігів
A3: Об'єкт: Евакуаційні сходи
A4: №п/п | B4: Найменуванння робіт | C4: Од. вим. | D4: Р о б о т а | G4: М а т е р і а л и
D5: Кіл-сть | E5: Ціна, грн | F5: Сумма, грн | G5: Найменування матеріалів | H5: Од. вим. | I5: Норма витрат | J5: Кіл-сть | K5: Ціна, грн | L5: Сумма, грн
A6: 1 | B6: 2 | C6: 3 | D6: 4 | E6: 5 | F6: 6 | G6: 7 | H6: 8 | I6: 9 | J6: 10 | K6: 11 | L6: 12
B7: Ручна розробка грунту з навантаженням та перевезенням | C7: м3 | D7: 1.35 | F7: =E7*D7 -> 0
B8: Улаштування фундаментів | C8: м3 | D8: 1.4 | F8: =E8*D8 -> 0 | G8: Арматура Ø16 А240С | H8: т | J8: 0.0225 | L8: =K8*J8 -> 0
G9: Шайба -80х8, L=80 | H9: шт | J9: 20 | L9: =K9*J9 -> 0
G10: Гайка М16 | H10: шт | J10: 40 | L10: =K10*J10 -> 0
G11: Бетон В15 | H11: м3 | I11: 1.05 | J11: =I11*D8 -> 1.47 | L11: =K11*J11 -> 0
B12: Виготовлення металевих сходів | C12: т | D12: 2.72 | F12: =E12*D12 -> 0 | G12: Конструкції металеві | H12: т | J12: 2.72 | L12: =K12*J12 -> 0
B13: Монтаж металевих сходів | C13: т | D13: 2.72 | F13: =E13*D13 -> 0 | G13: Кутик 75х75х5 | H13: т | J13: 0.09 | L13: =K13*J13 -> 0
G14: Анкер 12х200 | H14: шт | J14: 20 | L14: =K14*J14 -> 0
B15: Грунтування з фарбуванням металоконструкцій | C15: м2 | D15: 106.4 | F15: =E15*D15 -> 0 | G15: Грунт ГФ-021 | H15: кг | I15: 0.2 | J15: =I15*D15 -> 21.28 | L15: =K15*J15 -> 0
G16: Емаль антикорозійна | H16: кг | I16: 0.4 | J16: =I16*D15 -> 42.56 | L16: =K16*J16 -> 0
B17: МіМ | G17: МШП | L17: =SUM(L7:L16)*0.07 -> 0
B18: ВСЬОГО по роботам | F18: =SUM(F7:F17) -> 0 | G18: ВСЬОГО по матеріалам | L18: =SUM(L7:L16) -> 0
B19: Всього | F19: =F18+L18 -> 0
B20: ВСЬОГО, з ПДВ | F20: =(F18+L18)*1.2 -> 0

Sheet Розділ 3
A1: Технічне завдання
A2: Проведення реконструкції спортивної зали в ЗОШ №20, м. Чернігів
A3: Об'єкт: Підлога
A4: №п/п | B4: Найменуванння робіт | C4: Од. вим. | D4: Р о б о т а | G4: М а т е р і а л и
D5: Кіл-сть | E5: Ціна, грн | F5: Сумма, грн | G5: Найменування матеріалів | H5: Од. вим. | I5: Норма витрат | J5: Кіл-сть | K5: Ціна, грн | L5: Сумма, грн
A6: 1 | B6: 2 | C6: 3 | D6: 4 | E6: 5 | F6: 6 | G6: 7 | H6: 8 | I6: 9 | J6: 10 | K6: 11 | L6: 12
B7: Очистка пілоги під пилу та бруду | C7: м2 | D7: 188 | F7: =E7*D7 -> 0
B8: Забивка швів та нерівностей між плитами | C8: м2 | D8: 50 | F8: =E8*D8 -> 0 | G8: Розчин цементно-піщаний М150 | H8: м3 | I8: 0.03 | J8: =I8*D8 -> 1.5 | L8: =K8*J8 -> 0
B9: Укладання гідроізоляції | C9: м2 | D9: 188 | F9: =E9*D9 -> 0 | G9: Плівка ПЕ 150 мкм | H9: м2 | I9: 1.1 | J9: =I9*D9 -> 206.8 | L9: =K9*J9 -> 0
B10: Укладання утеплювача на підлогу | C10: м2 | D10: 72 | F10: =E10*D10 -> 0 | G10: Плити з екструзійного пінополістиролу 100мм | H10: м2 | I10: 1.1 | J10: =I10*D10 -> 79.2 | L10: =K10*J10 -> 0
B11: Улаштування стяжки (товщ 50мм) | C11: м2 | D11: 188 | F11: =E11*D11 -> 0 | G11: Розчин цементно-піщаний М150 | H11: м3 | I11: 0.05 | J11: =I11*D11 -> 9.4 | L11: =K11*J11 -> 0
G12: Фібра поліпропіленова 12мм | H12: кг | I12: 0.072 | J12: =I12*D11 -> 13.536 | L12: =K12*J12 -> 0
B13: Грунтування підлоги | C13: м2 | D13: 188 | F13: =E13*D13 -> 0 | G13: Грунтівка Ceresit CT-17 | H13: л | I13: 0.2 | J13: =I13*D13 -> 37.6 | L13: =K13*J13 -> 0
B14: Улаштування самовирівнюючої стяжки (товщ 10мм) | C14: м2 | D14: 188 | F14: =E14*D14 -> 0 | G14: Стяжка самовирівнююча CN-69 | H14: кг | I14: =1.8*10 -> 18 | J14: =I14*D14 -> 3384 | L14: =K14*J14 -> 0
B15: Улаштування деформаційних швів | C15: м.п | D15: 130 | F15: =E15*D15 -> 0 | G15: Джгут ущільнювальний ППЕ 10мм | H15: м.п | I15: 1.1 | J15: =I15*D15 -> 143 | L15: =K15*J15 -> 0
G16: Ceresit CS-51 | H16: кг | I16: 0.2 | J16: =I16*D15 -> 26 | L16: =K16*J16 -> 0
B17: Улаштування покриття з лінолеуму | C17: м2 | D17: 188 | F17: =E17*D17 -> 0 | G17: Лінолеум спортивний | H17: м2 | I17: 1.2 | J17: =I17*D17 -> 225.6 | L17: =K17*J17 -> 0
G18: Клей для лінолеуму | H18: кг | I18: 0.3 | J18: =I18*D17 -> 56.4 | L18: =K18*J18 -> 0
G19: Шнур для лінолеуму | H19: м.п | J19: 100 | L19: =K19*J19 -> 0
B20: Улаштування плінтусів | C20: м.п | D20: 63 | F20: =E20*D20 -> 0 | G20: Лінолеум спортивний | H20: м2 | I20: 0.2 | J20: 12.6 | L20: =K20*J20 -> 0
G21: Клей для лінолеуму | H21: кг | J21: 18.9 | L21: =J21*K21 -> 0
G22: Шнур для лінолеуму | H22: м.п | J22: 25 | L22: =J22*K22 -> 0
G23: МШП | L23: =SUM(L7:L22)*0.07 -> 0
B24: ВСЬОГО по роботам | F24: =SUM(F7:F23) -> 0 | G24: ВСЬОГО по матеріалам | L24: =SUM(L7:L23) -> 0
B25: Всього | F25: =F24+L24 -> 0
B26: ВСЬОГО, з ПДВ | F26: =(F24+L24)*1.2 -> 0

Sheet Розділ 4
A1: Технічне завдання
A2: Проведення реконструкції спортивної зали в ЗОШ №20, м. Чернігів
A3: Об'єкт: коридор, санвузол, роздягальня дівоча
A4: №п/п | B4: Найменуванння робіт | C4: Од. вим. | D4: Р о б о т а | G4: М а т е р і а л и
D5: Кіл-сть | E5: Ціна, грн | F5: Сумма, грн | G5: Найменування матеріалів | H5: Од. вим. | I5: Норма витрат | J5: Кіл-сть | K5: Ціна, грн | L5: Сумма, грн
A6: 1 | B6: 2 | C6: 3 | D6: 4 | E6: 5 | F6: 6 | G6: 7 | H6: 8 | I6: 9 | J6: 10 | K6: 11 | L6: 12
B7: Коридор
B8: Стеля
B9: Грунтування стелі | C9: м2 | D9: 8 | F9: =D9*E9 -> 0 | G9: Грунтівка Ceresit CT-17 | H9: л | I9: 0.2 | J9: 1.6 | L9: =J9*K9 -> 0
B10: Штукатурка стелі по сітці | C10: м2 | D10: 8 | F10: =D10*E10 -> 0 | G10: Штукатурка Ceresit CT-25 | H10: кг | I10: 7 | J10: 56 | L10: =J10*K10 -> 0
G11: Сітка штукатурна скловолокно CT-325 | H11: м2 | I11: 1.1 | J11: 8.8 | L11: =J11*K11 -> 0
B12: Грунтування стелі | C12: м2 | D12: 8 | F12: =D12*E12 -> 0 | G12: Грунтівка Ceresit CT-17 | H12: л | I12: 0.2 | J12: 1.6 | L12: =J12*K12 -> 0
B13: Шпаклювання стелі | C13: м2 | D13: 8 | F13: =D13*E13 -> 0 | G13: Шпаклівка гіпсова Кнауф старт | H13: кг | I13: 3 | J13: 24 | L13: =J13*K13 -> 0
G14: Шпаклівка гіпсова Кнауф фініш | H14: кг | I14: 1.8 | J14: 14.4 | L14: =J14*K14 -> 0
B15: Грунтування стелі | C15: м2 | D15: 8 | F15: =D15*E15 -> 0 | G15: Грунтівка Ceresit CT-16 | H15: кг | I15: 0.65 | J15: 5.2 | L15: =J15*K15 -> 0
B16: Фарбування стелі (2 шари) | C16: м2 | D16: 8 | F16: =D16*E16 -> 0 | G16: Фарба водоемульсійна (Ceresit IN 53+пігмент) | H16: л | I16: 0.35 | J16: 2.8 | L16: =J16*K16 -> 0
B17: Стіни
B18: Розширення дверного прорізу | C18: шт | D18: 2 | F18: =D18*E18 -> 0
B19: Грунтування ніш за радіаторами опалення | C19: м2 | D19: 3.29 | F19: =D19*E19 -> 0 | G19: Грунтівка Ceresit CT-16 | H19: кг | I19: 0.65 | J19: 2.1385 | L19: =J19*K19 -> 0
B20: Грунтування стін | C20: м2 | D20: 15.14 | F20: =D20*E20 -> 0 | G20: Грунтівка Ceresit CT-17 | H20: л | I20: 0.2 | J20: 3.028 | L20: =J20*K20 -> 0
B21: Штукатурка стін по маяках | C21: м2 | D21: 15.14 | F21: =D21*E21 -> 0 | G21: Маяк штукатурний 10мм | H21: м.п | J21: 25 | L21: =J21*K21 -> 0
G22: Сітка штукатурна скловолокно CT-325 | H22: м2 | I22: 1.1 | J22: 16.654 | L22: =J22*K22 -> 0
G23: Штукатурка Ceresit CT-25 | H23: кг | I23: 45 | J23: 681.3 | L23: =J23*K23 -> 0
B24: Грунтування стін | C24: м2 | D24: 15.14 | F24: =D24*E24 -> 0 | G24: Грунтівка Ceresit CT-17 | H24: л | I24: 0.2 | J24: 3.028 | L24: =J24*K24 -> 0
B25: Облицювання стін керамічною плиткою | C25: м2 | D25: 9.4 | F25: =D25*E25 -> 0 | G25: Плитка керамічна | H25: м2 | I25: 1.1 | J25: 10.34 | L25: =J25*K25 -> 0
G26: Суміш Ceresit CМ-11 | H26: кг | I26: 6.5 | J26: 61.1 | L26: =J26*K26 -> 0
G27: Кутик для плитки зовнішній | H27: м | J27: 10 | L27: =J27*K27 -> 0
G28: Затирка Ceresit СЕ-40 | H28: кг | I28: 0.4 | J28: 3.76 | L28: =J28*K28 -> 0
B29: Шпаклювання стін | C29: м2 | D29: 5.74 | F29: =D29*E29 -> 0 | G29: Шпаклівка гіпсова Кнауф старт | H29: кг | I29: 3 | J29: 17.22 | L29: =J29*K29 -> 0
G30: Шпаклівка гіпсова Кнауф фініш | H30: кг | I30: 1.8 | J30: 10.332 | L30: =J30*K30 -> 0
B31: Грунтування стін | C31: м2 | D31: 5.74 | F31: =D31*E31 -> 0 | G31: Грунтівка Ceresit CT-16 | H31: кг | I31: 0.65 | J31: 3.731 | L31: =J31*K31 -> 0
B32: Фарбування стін (2 шари) | C32: м2 | D32: 5.74 | F32: =D32*E32 -> 0 | G32: Фарба водоемульсійна (Ceresit IN 53+пігмент) | H32: л | I32: 0.35 | J32: 2.009 | L32: =J32*K32 -> 0
B33: Улаштування теплоізоляційних екранів за радіаторами опалення | C33: м2 | D33: 1.44 | F33: =D33*E33 -> 0 | G33: Газоспінений поліетилен фольгований самоклеючий 10 мм | H33: м2 | I33: 1.1 | J33: 1.584 | L33: =J33*K33 -> 0
B34: Грунтування дверних відкосів | C34: м2 | D34: 0.53 | F34: =D34*E34 -> 0 | G34: Грунтівка Ceresit CT-17 | H34: л | I34: 0.2 | J34: 0.106 | L34: =J34*K34 -> 0
B35: Штукатурка дверних відкосів | C35: м2 | D35: 0.53 | F35: =D35*E35 -> 0 | G35: Штукатурка Ceresit CT-25 | H35: кг | I35: 45 | J35: 23.85 | L35: =J35*K35 -> 0
G36: Сітка штукатурна скловолокно CT-325 | H36: м2 | I36: 1.1 | J36: 0.583 | L36: =J36*K36 -> 0
B37: Грунтування дверних відкосів | C37: м2 | D37: 0.53 | F37: =D37*E37 -> 0 | G37: Грунтівка Ceresit CT-17 | H37: л | I37: 0.2 | J37: 0.106 | L37: =J37*K37 -> 0
B38: Шпаклювання дверних відкосів | C38: м2 | D38: 0.53 | F38: =D38*E38 -> 0 | G38: Шпаклівка гіпсова Кнауф старт | H38: кг | I38: 3 | J38: 1.59 | L38: =J38*K38 -> 0
G39: Шпаклівка гіпсова Кнауф фініш | H39: кг | I39: 1.8 | J39: 0.954 | L39: =J39*K39 -> 0
G40: Кутик ПВХ перфорований | H40: м | J40: 22 | L40: =J40*K40 -> 0
...

Sheet Розділ 5
A1: Технічне завдання
A2: Проведення реконструкції спортивної зали в ЗОШ №20, м. Чернігів
A3: Об'єкт: 2-й поверх: трибуни, учительська, чоловіча роздягальня
A4: №п/п | B4: Найменуванння робіт | C4: Од. вим. | D4: Р о б о т а | G4: М а т е р і а л и
D5: Кіл-сть | E5: Ціна, грн | F5: Сумма, грн | G5: Найменування матеріалів | H5: Од. вим. | I5: Норма витрат | J5: Кіл-сть | K5: Ціна, грн | L5: Сумма, грн
A6: 1 | B6: 2 | C6: 3 | D6: 4 | E6: 5 | F6: 6 | G6: 7 | H6: 8 | I6: 9 | J6: 10 | K6: 11 | L6: 12
B7: Трибуни
B8: Стеля
B9: Грунтування стелі та балок | C9: м2 | D9: 26 | F9: =D9*E9 -> 0 | G9: Грунтівка Ceresit CT-17 | H9: л | I9: 0.2 | J9: 5.2 | L9: =J9*K9 -> 0
B10: Штукатурка стелі та балок по сітці | C10: м2 | D10: 26 | F10: =D10*E10 -> 0 | G10: Штукатурка Ceresit CT-25 | H10: кг | I10: 7 | J10: 182 | L10: =J10*K10 -> 0
G11: Сітка штукатурна скловолокно CT-325 | H11: м2 | I11: 1.1 | J11: 28.6 | L11: =J11*K11 -> 0
B12: Грунтування стелі та балок | C12: м2 | D12: 26 | F12: =D12*E12 -> 0 | G12: Грунтівка Ceresit CT-17 | H12: л | I12: 0.2 | J12: 5.2 | L12: =J12*K12 -> 0
B13: Шпаклювання стелі та балок | C13: м2 | D13: 26 | F13: =D13*E13 -> 0 | G13: Шпаклівка гіпсова Кнауф старт | H13: кг | I13: 3 | J13: 78 | L13: =J13*K13 -> 0
G14: Шпаклівка гіпсова Кнауф фініш | H14: кг | I14: 1.8 | J14: 46.8 | L14: =J14*K14 -> 0
B15: Грунтування стелі та балок | C15: м2 | D15: 26 | F15: =D15*E15 -> 0 | G15: Грунтівка Ceresit CT-16 | H15: кг | I15: 0.65 | J15: 16.9 | L15: =J15*K15 -> 0
B16: Фарбування стелі та балок (2 шари) | C16: м2 | D16: 26 | F16: =D16*E16 -> 0 | G16: Фарба водоемульсійна (Ceresit IN 53+пігмент) | H16: л | I16: 0.35 | J16: 9.1 | L16: =J16*K16 -> 0
B17: Стіни | F17: =D17*E17 -> 0
B18: Грунтування стін | C18: м2 | D18: 54.3 | F18: =D18*E18 -> 0 | G18: Грунтівка Ceresit CT-17 | H18: л | I18: 0.2 | J18: 10.86 | L18: =J18*K18 -> 0
B19: Штукатурка стін по маякам | C19: м2 | D19: 54.3 | F19: =D19*E19 -> 0 | G19: Маяк штукатурний 10мм
G20: Сітка штукатурна скловолокно CT-325 | H20: м2 | I20: 1.1 | J20: 59.73 | L20: =J20*K20 -> 0
G21: Штукатурка Ceresit CT-25 | H21: кг | I21: 7 | J21: 380.1 | L21: =J21*K21 -> 0
B22: Грунтування стін | C22: м2 | D22: 54.3 | F22: =D22*E22 -> 0 | G22: Грунтівка Ceresit CT-17 | H22: л | I22: 0.2 | J22: 10.86 | L22: =J22*K22 -> 0
B23: Улаштування перегородок з ГКЛ на металквому каркасі | C23: м2 | D23: 9 | F23: =D23*E23 -> 0 | G23: Гіпсокартон вологостійкий 12,5мм | H23: м2 | I23: 2.1 | J23: 18.9 | L23: =J23*K23 -> 0
G24: Профіль направляючий UW100/40 | H24: м.п | I24: 0.7 | J24: 6.3 | L24: =J24*K24 -> 0
G25: Профіль стієчний СW100/50 | H25: м.п | I25: 2 | J25: 18 | L25: =J25*K25 -> 0
G26: Саморіз по металу 3,5х25 | H26: шт | I26: 34 | J26: 306 | L26: =J26*K26 -> 0
G27: Саморіз по металу 3,5х9,5 | H27: шт | I27: 15 | J27: 135 | L27: =J27*K27 -> 0
G28: Дюбель 6х40 | H28: шт | I28: 1.5 | J28: 13.5 | L28: =J28*K28 -> 0
G29: Мінеральна вата 100мм | H29: м2 | I29: 1.1 | J29: 9.9 | L29: =J29*K29 -> 0
B30: Монтаж металопластикових дверей | C30: м2 | D30: 1.6 | F30: =D30*E30 -> 0 | G30: Двері металопластикові | H30: м2 | I30: 1 | J30: 1.6 | L30: =J30*K30 -> 0
B31: Шпаклювання стін | C31: м2 | D31: 54.3 | F31: =D31*E31 -> 0 | G31: Шпаклівка гіпсова Кнауф старт | H31: кг | I31: 3 | J31: 162.9 | L31: =J31*K31 -> 0
G32: Шпаклівка гіпсова Кнауф фініш | H32: кг | I32: 1.8 | J32: 97.74 | L32: =J32*K32 -> 0
B33: Грунтування стін | C33: м2 | D33: 54.3 | F33: =D33*E33 -> 0 | G33: Грунтівка Ceresit CT-16 | H33: кг | I33: 0.65 | J33: 35.295 | L33: =J33*K33 -> 0
B34: Фарбування стін (2 шари) | C34: м2 | D34: 54.3 | F34: =D34*E34 -> 0 | G34: Фарба водоемульсійна (Ceresit IN 53+пігмент) | H34: л | I34: 0.35 | J34: 19.005 | L34: =J34*K34 -> 0
B35: Пробивання дверного прорізу | C35: шт | D35: 1 | F35: =D35*E35 -> 0
B36: Очистка труб опалення від старої фарби | C36: м.п. | D36: 6 | F36: =D36*E36 -> 0
B37: Фарбування труб опалення емаллю за 2 рази | C37: м.п. | D37: 6 | F37: =D37*E37 -> 0 | G37: Емаль для радіаторів | H37: кг | I37: 0.4 | J37: 2.4 | L37: =J37*K37 -> 0
B38: Штукатурка дверних відкосів | C38: м2 | D38: 1.1 | F38: =D38*E38 -> 0 | G38: Штукатурка Ceresit CT-25 | H38: кг | I38: 7 | J38: 7.7 | L38: =J38*K38 -> 0
G39: Сітка штукатурна скловолокно CT-325 | H39: м2 | I39: 1.1 | J39: 1.21 | L39: =J39*K39 -> 0
B40: Грунтування дверних відкосів | C40: м2 | D40: 1.1 | F40: =D40*E40 -> 0 | G40: Грунтівка Ceresit CT-16 | H40: л | I40: 0.65 | J40: 0.715 | L40: =J40*K40 -> 0
...

Sheet Розділ 6
A1: Технічне завдання
A2: Проведення реконструкції спортивної зали в ЗОШ №20, м. Чернігів
A3: Об'єкт: Вентиляція спортзалу
A4: №п/п | B4: Найменуванння робіт | C4: Од. вим. | D4: Р о б о т а | G4: М а т е р і а л и
D5: Кіл-сть | E5: Ціна, грн | F5: Сумма, грн | G5: Найменування матеріалів | H5: Од. вим. | I5: Норма витрат | J5: Кіл-сть | K5: Ціна, грн | L5: Сумма, грн
A6: 1 | B6: 2 | C6: 3 | D6: 4 | E6: 5 | F6: 6 | G6: 7 | H6: 8 | I6: 9 | J6: 10 | K6: 11 | L6: 12
B7: Прорізання отворів під витяжну установку | C7: шт | D7: 2 | F7: =D7*E7 -> 0
B8: Монтаж приточно-витяжної установки ВУТ2000 ПЗ ЕС | C8: шт | D8: 1 | F8: =D8*E8 -> 0 | G8: Приточно-витяжна установка ВУТ2000 ПЗ ЕС | H8: шт | I8: 1 | J8: 1 | L8: =J8*K8 -> 0
B9: Гнучка вставка | C9: шт | D9: 4 | F9: =D9*E9 -> 0 | G9: Гнучка вставка | H9: шт | I9: 1 | J9: 4 | L9: =J9*K9 -> 0
B10: Повітропровід з оцинкованої сталі 0,5-0,7 мм ø315 | C10: м2 | D10: 9.89 | F10: =D10*E10 -> 0 | G10: Повітропровід з оцинкованої сталі 0,5-0,7 мм ø315 | H10: м2 | I10: 1 | J10: 9.89 | L10: =J10*K10 -> 0
B11: Повітропровід з оцинкованої сталі 0,5-0,7 мм ø250 | C11: м2 | D11: 7.85 | F11: =D11*E11 -> 0 | G11: Повітропровід з оцинкованої сталі 0,5-0,7 мм ø250 | H11: м2 | I11: 1 | J11: 7.85 | L11: =J11*K11 -> 0
B12: Повітропровід з оцинкованої сталі 0,5-0,7 мм ø200 | C12: м2 | D12: 6.28 | F12: =D12*E12 -> 0 | G12: Повітропровід з оцинкованої сталі 0,5-0,7 мм ø200 | H12: м2 | I12: 1 | J12: 6.28 | L12: =J12*K12 -> 0
B13: Повітропровід з оцинкованої сталі 0,5-0,7 мм ø150 | C13: м2 | D13: 4.71 | F13: =D13*E13 -> 0 | G13: Повітропровід з оцинкованої сталі 0,5-0,7 мм ø150 | H13: м2 | I13: 1 | J13: 4.71 | L13: =J13*K13 -> 0
B14: Фасонні вироби з оцинкованої сталі 0,5-0,7 мм | C14: м2 | D14: 8.62 | F14: =D14*E14 -> 0 | G14: Фасонні вироби з оцинкованої сталі 0,5-0,7 мм | H14: м2 | I14: 1 | J14: 8.62 | L14: =J14*K14 -> 0
B15: Ізоляція пінофол 10мм | C15: м2 | D15: 20 | F15: =D15*E15 -> 0 | G15: Ізоляція пінофол 10мм | H15: м2 | I15: 1 | J15: 20 | L15: =J15*K15 -> 0
B16: Кріплення | C16: кг | D16: 80 | F16: =D16*E16 -> 0 | G16: Кріплення | H16: кг | I16: 1 | J16: 80 | L16: =J16*K16 -> 0
B17: Решітка вентиляційна 400x200 | C17: шт | D17: 10 | F17: =D17*E17 -> 0 | G17: Решітка вентиляційна 400x200 | H17: шт | I17: 1 | J17: 10 | L17: =J17*K17 -> 0
B18: Кабельна продукція | C18: шт | D18: 1 | F18: =D18*E18 -> 0 | G18: Кабельна продукція | H18: шт | I18: 1 | J18: 1 | L18: =J18*K18 -> 0
B19: Дросель-клапан вентиляційний КРВ 315 | C19: шт | D19: 2 | F19: =D19*E19 -> 0 | G19: Дросель-клапан вентиляційний КРВ 315 | H19: шт | I19: 1 | J19: 2 | L19: =J19*K19 -> 0
B21: Пусконалагоджувальні роботи | C21: Комплекс | D21: 1 | F21: =D21*E21 -> 0
G22: МШП | H22: % | L22: =SUM(L8:L19)*0.07 -> 0
B23: ВСЬОГО по роботам | F23: =SUM(F7:F21) -> 0 | G23: ВСЬОГО по матеріалам | L23: =SUM(L8:L22) -> 0
B24: Всього | F24: =F23+L23 -> 0
B25: ВСЬОГО, з ПДВ | F25: =(F23+L23)*1.2 -> 0

Sheet Зведена
A2: № розділу | B2: Найменування | C2: Ціна грн, з ПДВ
A3: 1 | B3: Решта по спортзалу (включно з дверима для евакуаціоного виходу) | C3: ='Розділ 1'!F50 -> 0
A4: 2 | B4: Евакуаційні сходи (без врахування дверей) | C4: ='Розділ 2'!F20 -> 0
A5: 3 | B5: Підлога (фінальне покриття лінолеум спортивний) | C5: ='Розділ 3'!F26 -> 0
A6: 4 | B6: 1-й поверх: Коридор, санвузол, роздягальня дівоча | C6: ='Розділ 4'!F228 -> 0
A7: 5 | B7: 2-й поверх: чоловіча роздягальня, тренерська, трибуна | C7: ='Розділ 5'!F249 -> 0
A8: 6 | B8: Вентиляція спортзала | C8: ='Розділ 6'!F25 -> 0
A9: Всього вартість робіт та матеріалів: | C9: =SUM(C3:C8) -> 0
