{"text_format":"1","workbook":"xlsx","n_sheets":2,"sheets":["Запит на закупівлю","Форма пропозиції (постачальник)"],"not_rendered":{"charts":0,"images":0,"macros":1,"external_links":0,"defined_names":4,"comments":1,"pivot_tables":0},"unopened":[],"bounds":{"document_bytes":16777216,"sheet_cells":100000,"rows_first":2000,"rows_last":500,"rows_between":2000,"halvings":0,"cell_chars":16384,"cell_head_chars":4096},"cells_cut":0,"cells_raw":0,"read":"whole","date_system":"1900"}

{"sheet":"Запит на закупівлю","index":0,"n_rows":52,"n_cols":8,"rows_kept":52,"cut":false,"hidden":false,"merged":[[33,0,33,5],[7,3,7,5],[11,0,11,2],[11,3,11,5],[12,0,12,2],[12,3,12,5],[31,1,31,3],[14,0,14,5],[51,1,51,5],[35,1,35,4],[50,1,50,5],[46,2,46,5],[48,2,48,5],[44,2,44,5],[45,2,45,5],[36,1,36,4],[37,1,37,4],[42,2,42,5],[38,1,38,4],[39,1,39,4],[47,2,47,5],[43,2,43,5],[3,3,3,5],[1,3,1,5],[8,0,8,2],[8,3,8,5],[10,0,10,2],[9,0,9,2],[9,3,9,5],[4,0,4,1],[10,3,10,5]]}
[null,null,null,null,null,null,null,"Необхідно заповнити клітинки, що виділено жовтим"]
["Порядковий номер закупівлі згідно плану закупівель:",null,null,1]
[]
["\nДата формування запиту на закупівлю",null,null,"2023-08-30"]
["\n\nДата отримання запиту відділом закупівель"]
[]
[]
["Предмет закупівлі:",null,null,"Публікації у місцевих періодичних виданнях"]
["Донор:",null,null,"PATH"]
["Замовник:",null,null,"Благодійна організація \"100 відсотків життя Рівне\""]
["Проект:",null,null,"«Support TB Control Efforts in Ukraine» (Угода № AID.574420-01721506-SUB від 27.04.2023р.)"]
["Оплата ПДВ за проектом:",null,null,"можуть надавати свої пропозиції як платники ПДВ, так і  на єдиному  податку"]
["Опис позицій до закупівлі товарів / технічне завдання для робіт та послуг",null,null,"Підбір тем, їх пітчинг, написання та розміщення в друкованих та Інтернет-виданнях Рівненської та Волинської областей 30 публікацій, що стосуються тематики запобігання поширенню та/або протидії туберкульозу. У вартість цих послуг входить оплата  30 платних публікацій за необхідності."]
[1]
["Опис товарів, послуг або робіт"]
["№ лоту*","Назва товарів / послуг","Одиниця виміру ","кількість *","Вимоги до товарів / технічні характеристики","Терміни поставки товару / надання послуги"]
[1,"Підбір тем, їх пітчинг, написання та розміщення в друкованих та Інтернет-виданнях Рівненської та Волинської областей 30 публікацій, що стосуються тематики запобігання поширенню та/або протидії туберкульозу. У вартість цих послуг входить оплата  30 платних публікацій за необхідності.","послуги",30,"Вимоги до публікації: кількість символів – не менше 2000, використання лексики, дружньої до пацієнтів; застосування етичних принципів при створенні публікацій.\nЦіль публікацій: подолання поширених міфів та упереджень щодо туберкульозу; розуміння глобальної та національної стратегії з подолання туберкульозу та реалізації їх на місцевому рівні; вплив туберкульозу на психологічний та соціальний клімат у громаді; дати розуміння ролі громад (як територіальних, так і поведінкових) у подоланні бар’єрів на шляху  до одужання.\n","вересень 2023 – травень 2024 року"]
[]
[]
[]
[]
[]
[3]
[4]
[5]
["6"]
["* Пропозиції на майданчику подавати за загальний об`єм. Некоректно подані пропозиції будуть дискваліфіковані. Кількість кіломентів є орієнтовною, оплата буде проводитись за фактично надані послуги."]
[]
[1]
["Критерії оцінки"]
[1,"Критерії оцінки",null,null,"Вага критерію","Підверджуюча документація"]
[1,"Вартість послуг",null,null,1,"Цінова пропозиція  з підписом відповідальної особи та печаткою організації/ФОП (якщо є)."]
[1]
["Вимоги до постачальників товарів, надавачів послуг або виконавців робіт"]
[1,"Вимоги",null,null,null,"Підверджуюча документація"]
[1,"Наявність інтернет – сторінки (якщо є)",null,null,null,"має бути надана адреса інтернет сайту"]
[2,"Призначення одного менеджера по роботі із замовником",null,null,null,"має бути зазначено ПІБ менеджера"]
["3","Комерційні пропозиції ",null,null,null,"Комерційна пропозиція"]
["4","Право на здійснення підприємницької діяльності",null,null,null,"Повний пакет документів, які підтверджують правовий статус постачальника"]
["5","Вимоги до учасників: вища освіта, досвід роботи в благодійних організаціях та фондах, досвід роботи у сфері журналістики не менше 5 років, бути зареєстрованим фізичною особою-підприємцем з відповідними видами діяльності.\nПеревага надається учасникам з освітою в сфері медицини та/або досвідом роботи в сфері поширення інформації про Програму медичних гарантій та туберкульозу, розумінням медійного ринку Рівненської та Волинської областей.",null,null,null,"рекомендаційні листи, інші документи"]
[]
["Умови співпраці, загальні вимоги до товарів"]
[1,"Загальний термін договору:","вересень 2023 – травень 2024"]
[2,"Умови оплати:","Помісячна оплата протягом  10 робочих днів після наданих послуг та складання акту виконаних робіт"]
[3,"Розрахунок:","Безготівковий розрахунок    \n"]
[4,"Умови постачання товарів, надання послуг або виконання робіт:","щомісячно  згідно складеного графіка керівником проєкту"]
["5","Гарантія:","не застосовується"]
["6","Звільнення від ПДВ:","можуть надавати свої пропозиції як платники ПДВ, так і  на єдиному  податку"]
["7","Інші умови:","Якщо число потенційних постачальників менше ніж 3 (три), дана закупівля може бути переоголошена. Організація залишає за собою право в момент визначення переможця тендеру рекомендувати переможцю збільшити або зменшити на 15% обсяг послуг з відповідною зміною ціни або інших умов тендерної пропозиції. Організація залишає за собою право відмовити учаснику/переможцю  без будь-яких пояснень та зобов’язань. Організація залишає за собою право відмінити закупівлю без будь яких зобов’язань та пояснень. "]
["Документи, що мають бути надані разом із ціновою пропозицією, в т.ч. документи, що підтверджують відповідність вимогам"]
[1,"Підприємства (ТОВ, ВАТ, ЗАТ, Приватні підприємства тощо) копії свідоцтва про державну реєстрацію юридичної особи (для зареєстрованих до 07.05.2011 року, якщо їм не було видано виписку) або Виписка з Єдиного державного реєстру юридичних осіб та фізичних осіб-підприємців та ліцензії (якщо вид діяльності ліцензується). Для фізичних осіб-підприємців (ФОП) на єдиному податку – копія свідоцтва про державну реєстрацію (для зареєстрованих до 07.05.2011 року, якщо їм не було видану Виписку) або Виписка з Єдиного державного реєстру юридичних осіб, фізичних осіб-підприємців та громадських формувань та копію діючої ліцензії (якщо вид діяльності ліцензується); Для фізичних осіб- підприємців (ФОП) на загальній системі оподаткування – копії свідоцтва про державну реєстрацію (для зареєстрованих до 07.05.2011 року, якщо їм не було видано Виписку) або Виписка з Єдиного державного реєстру юридичних осіб, фізичних осіб-підприємців та громадських формувань та ліцензії (якщо вид діяльності ліцензується)."]
[2,"Всі копії будь-яких документів, що включаються в тендерну пропозицію, мають бути обов’язково завіреними підписом учасника, а якщо учасником є юридична особа, то печаткою та підписом уповноваженої особи. До тендерної пропозиції повинні додаватись документи, які посвідчують право такої уповноваженої особи підписувати тендерну пропозицію (наказ про призначення керівника або довіреність)."]

{"sheet":"Форма пропозиції (постачальник)","index":1,"n_rows":101,"n_cols":10,"rows_kept":101,"cut":false,"hidden":false,"merged":[[80,0,80,7],[81,0,81,7],[71,0,71,7],[76,0,76,7],[77,0,77,7],[78,0,78,7],[72,0,72,7],[73,0,73,7],[75,0,75,7],[70,0,70,7],[59,1,59,5],[53,2,53,5],[79,0,79,7],[63,0,63,7],[74,0,74,7],[58,1,58,5],[57,0,57,5],[82,0,82,7],[12,1,12,2],[13,1,13,2],[14,1,14,2],[21,1,21,2],[21,3,21,7],[14,3,14,7],[15,3,15,7],[16,3,16,7],[64,0,64,7],[65,0,65,7],[66,0,66,7],[67,0,67,7],[68,0,68,7],[69,0,69,7],[17,1,17,2],[19,1,19,2],[17,3,17,7],[19,3,19,7],[47,0,47,5],[20,3,20,7],[42,1,42,4],[43,1,43,4],[44,1,44,4],[40,1,40,4],[41,1,41,4],[20,1,20,2],[34,1,34,6],[52,2,52,5],[54,2,54,5],[48,2,48,5],[49,2,49,5],[50,2,50,5],[51,2,51,5],[10,1,10,2],[11,1,11,2],[18,3,18,7],[10,3,10,7],[11,3,11,7],[12,3,12,7],[13,3,13,7],[15,1,15,2],[16,1,16,2],[18,1,18,2],[7,1,7,2],[9,1,9,2],[9,3,9,7],[0,0,0,1],[2,0,2,7],[8,1,8,2],[1,2,1,3],[7,3,7,7],[4,0,4,7],[6,0,6,7]]}
["Додаток 1 до Оголошення ",null,null,null,null,null,null,null,null,"Необхідно заповнити клітинки, що виділено жовтим"]
["№",{"$f":"'Запит на закупівлю'!D2","v":1},"про проведення конкурсних торгів"]
[{"$f":"'Запит на закупівлю'!D8","v":"Публікації у місцевих періодичних виданнях"}]
[]
["Цінова пропозиція"]
[]
["Відомості про компанію учасника"]
[1,"Найменування Учасника:"]
[2,"Код ЄДРПОУ"]
[3,"Юридична адреса:"]
[4,"Фактична адреса:"]
[5,"Дата державної реєстрації:"]
[6,"ПІБ та посада керівника:"]
[7,"Номер телефону керівника:"]
[8,"Контактна особа з питань подання пропозиції:"]
[9,"Номер моб. телефону контактної особи:"]
[10,"Електронна пошта керівника:"]
[11,"Електронна пошта контактної особи:"]
[12,"Адреса веб-сайту:"]
[13,"Банківські реквізити:"]
[14,"Вид коду економічної діяльності за КВЕД, або вид діяльності згідно статуту, в рамках якого юридична особа має право здійснювати постачання товарів:"]
[15,"Група платника єдиного податку (лише для платників єдиного податку"]
[]
["№ лоту*","Назва товарів, послуг або робіт","одиниця виміру ","кількість \n","вимоги до товарів полуг або робіт / технічні характеристики","Терміни надання послуг або робіт","вартість одиниці, грн (без ПДВ)","вартість всього, грн (без ПДВ)"]
[{"$f":"'Запит на закупівлю'!A17","v":1},{"$f":"'Запит на закупівлю'!B17","v":"Підбір тем, їх пітчинг, написання та розміщення в друкованих та Інтернет-виданнях Рівненської та Волинської областей 30 публікацій, що стосуються тематики запобігання поширенню та/або протидії туберкульозу. У вартість цих послуг входить оплата  30 платних публікацій за необхідності."},{"$f":"'Запит на закупівлю'!C17","v":"послуги"},{"$f":"'Запит на закупівлю'!D17","v":30},{"$f":"'Запит на закупівлю'!E17","v":"Вимоги до публікації: кількість символів – не менше 2000, використання лексики, дружньої до пацієнтів; застосування етичних принципів при створенні публікацій.\nЦіль публікацій: подолання поширених міфів та упереджень щодо туберкульозу; розуміння глобальної та національної стратегії з подолання туберкульозу та реалізації їх на місцевому рівні; вплив туберкульозу на психологічний та соціальний клімат у громаді; дати розуміння ролі громад (як територіальних, так і поведінкових) у подоланні бар’єрів на шляху  до одужання.\n"},{"$f":"'Запит на закупівлю'!F17","v":"вересень 2023 – травень 2024 року"},null,{"$f":"D25*G25","v":0}]
[{"$f":"'Запит на закупівлю'!A18","v":0},{"$f":"'Запит на закупівлю'!B18","v":0},{"$f":"'Запит на закупівлю'!C18","v":0},{"$f":"'Запит на закупівлю'!D18","v":0},{"$f":"'Запит на закупівлю'!E18","v":0},{"$f":"'Запит на закупівлю'!F18","v":0},null,{"$f":"D26*G26","v":0}]
[{"$f":"'Запит на закупівлю'!A19","v":0},{"$f":"'Запит на закупівлю'!B19","v":0},{"$f":"'Запит на закупівлю'!C19","v":0},{"$f":"'Запит на закупівлю'!D19","v":0},{"$f":"'Запит на закупівлю'!E19","v":0},{"$f":"'Запит на закупівлю'!F19","v":0},null,{"$f":"D27*G27","v":0}]
[{"$f":"'Запит на закупівлю'!A20","v":0},{"$f":"'Запит на закупівлю'!B20","v":0},{"$f":"'Запит на закупівлю'!C20","v":0},{"$f":"'Запит на закупівлю'!D20","v":0},{"$f":"'Запит на закупівлю'!E20","v":0},{"$f":"'Запит на закупівлю'!F20","v":0},null,{"$f":"D28*G28","v":0}]
[{"$f":"'Запит на закупівлю'!A21","v":0},{"$f":"'Запит на закупівлю'!B21","v":0},{"$f":"'Запит на закупівлю'!C21","v":0},{"$f":"'Запит на закупівлю'!D21","v":0},{"$f":"'Запит на закупівлю'!E21","v":0},{"$f":"'Запит на закупівлю'!F21","v":0},null,{"$f":"D29*G29","v":0}]
[{"$f":"'Запит на закупівлю'!A22","v":0},{"$f":"'Запит на закупівлю'!B22","v":0},{"$f":"'Запит на закупівлю'!C22","v":0},{"$f":"'Запит на закупівлю'!D22","v":0},{"$f":"'Запит на закупівлю'!E22","v":0},{"$f":"'Запит на закупівлю'!F22","v":0},null,0]
[{"$f":"'Запит на закупівлю'!A23","v":3},{"$f":"'Запит на закупівлю'!B23","v":0},{"$f":"'Запит на закупівлю'!C23","v":0},{"$f":"'Запит на закупівлю'!D23","v":0},{"$f":"'Запит на закупівлю'!E23","v":0},{"$f":"'Запит на закупівлю'!F23","v":0},null,{"$f":"D31*G31","v":0}]
[{"$f":"'Запит на закупівлю'!A24","v":4},{"$f":"'Запит на закупівлю'!B24","v":0},{"$f":"'Запит на закупівлю'!C24","v":0},{"$f":"'Запит на закупівлю'!D24","v":0},{"$f":"'Запит на закупівлю'!E24","v":0},{"$f":"'Запит на закупівлю'!F24","v":0},null,0]
[{"$f":"'Запит на закупівлю'!A25","v":5},{"$f":"'Запит на закупівлю'!B25","v":0},{"$f":"'Запит на закупівлю'!C25","v":0},{"$f":"'Запит на закупівлю'!D25","v":0},{"$f":"'Запит на закупівлю'!E25","v":0},{"$f":"'Запит на закупівлю'!F25","v":0},null,0]
[{"$f":"'Запит на закупівлю'!A26","v":"6"},{"$f":"'Запит на закупівлю'!B26","v":0},{"$f":"'Запит на закупівлю'!C26","v":0},{"$f":"'Запит на закупівлю'!D26","v":0},{"$f":"'Запит на закупівлю'!E26","v":0},{"$f":"'Запит на закупівлю'!F26","v":0},null,0]
[null,"ЗАГАЛЬНА СУММА (цю сумму вказуємо на майданчику)",null,null,null,null,null,{"$f":"SUM(H25:H34)","v":0}]
["* Пропозиції на майданчику подавати за загальний об`єм. Некоректно подані пропозиції будуть дискваліфіковані."]
[]
[]
[]
[1,"Вимоги до надавачів послуг або виконавців робіт*",null,null,null,"Підверджуюча документація","Відповідність вимогам \n(ТАК / НІ)"]
[{"$f":"'Запит на закупівлю'!A36","v":1},{"$f":"'Запит на закупівлю'!B36:E36","v":"Наявність інтернет – сторінки (якщо є)"},null,null,null,{"$f":"'Запит на закупівлю'!F36","v":"має бути надана адреса інтернет сайту"}]
[{"$f":"'Запит на закупівлю'!A37","v":2},{"$f":"'Запит на закупівлю'!B37:E37","v":"Призначення одного менеджера по роботі із замовником"},null,null,null,{"$f":"'Запит на закупівлю'!F37","v":"має бути зазначено ПІБ менеджера"}]
[{"$f":"'Запит на закупівлю'!A38","v":"3"},{"$f":"'Запит на закупівлю'!B38:E38","v":"Комерційні пропозиції "},null,null,null,{"$f":"'Запит на закупівлю'!F38","v":"Комерційна пропозиція"}]
[{"$f":"'Запит на закупівлю'!A39","v":"4"},{"$f":"'Запит на закупівлю'!B39:E39","v":"Право на здійснення підприємницької діяльності"},null,null,null,{"$f":"'Запит на закупівлю'!F39","v":"Повний пакет документів, які підтверджують правовий статус постачальника"}]
[{"$f":"'Запит на закупівлю'!A40","v":"5"},{"$f":"'Запит на закупівлю'!B40:E40","v":"Вимоги до учасників: вища освіта, досвід роботи в благодійних організаціях та фондах, досвід роботи у сфері журналістики не менше 5 років, бути зареєстрованим фізичною особою-підприємцем з відповідними видами діяльності.\nПеревага надається учасникам з освітою в сфері медицини та/або досвідом роботи в сфері поширення інформації про Програму медичних гарантій та туберкульозу, розумінням медійного ринку Рівненської та Волинської областей."},null,null,null,{"$f":"'Запит на закупівлю'!F40","v":"рекомендаційні листи, інші документи"}]
["*Невідповідність зазначеним вимогам призводить до автоматичної дискваліфікації"]
[]
["Умови співпраці, загальні вимоги до робіт та послуг*",null,null,null,null,null,"Відповідність вимогам \n(ТАК / НІ)"]
[{"$f":"'Запит на закупівлю'!A43","v":1},{"$f":"'Запит на закупівлю'!B43","v":"Загальний термін договору:"},{"$f":"'Запит на закупівлю'!C43:F43","v":"вересень 2023 – травень 2024"}]
[{"$f":"'Запит на закупівлю'!A44","v":2},{"$f":"'Запит на закупівлю'!B44","v":"Умови оплати:"},{"$f":"'Запит на закупівлю'!C44:F44","v":"Помісячна оплата протягом  10 робочих днів після наданих послуг та складання акту виконаних робіт"}]
[{"$f":"'Запит на закупівлю'!A45","v":3},{"$f":"'Запит на закупівлю'!B45","v":"Розрахунок:"},{"$f":"'Запит на закупівлю'!C45:F45","v":"Безготівковий розрахунок    \n"}]
[{"$f":"'Запит на закупівлю'!A46","v":4},{"$f":"'Запит на закупівлю'!B46","v":"Умови постачання товарів, надання послуг або виконання робіт:"},{"$f":"'Запит на закупівлю'!C46:F46","v":"щомісячно  згідно складеного графіка керівником проєкту"}]
[{"$f":"'Запит на закупівлю'!A47","v":"5"},{"$f":"'Запит на закупівлю'!B47","v":"Гарантія:"},{"$f":"'Запит на закупівлю'!C47:F47","v":"не застосовується"}]
[{"$f":"'Запит на закупівлю'!A48","v":"6"},{"$f":"'Запит на закупівлю'!B48","v":"Звільнення від ПДВ:"},{"$f":"'Запит на закупівлю'!C48:F48","v":"можуть надавати свої пропозиції як платники ПДВ, так і  на єдиному  податку"}]
[{"$f":"'Запит на закупівлю'!A49","v":"7"},{"$f":"'Запит на закупівлю'!B49","v":"Інші умови:"},{"$f":"'Запит на закупівлю'!C49:F49","v":"Якщо число потенційних постачальників менше ніж 3 (три), дана закупівля може бути переоголошена. Організація залишає за собою право в момент визначення переможця тендеру рекомендувати переможцю збільшити або зменшити на 15% обсяг послуг з відповідною зміною ціни або інших умов тендерної пропозиції. Організація залишає за собою право відмовити учаснику/переможцю  без будь-яких пояснень та зобов’язань. Організація залишає за собою право відмінити закупівлю без будь яких зобов’язань та пояснень. "}]
[]
[{"$f":"'Запит на закупівлю'!A50","v":"Документи, що мають бути надані разом із ціновою пропозицією, в т.ч. документи, що підтверджують відповідність вимогам"}]
["Документи, що мають бути надані разом із ціновою пропозицією, в т.ч. документи, що підтверджують відповідність вимогам*",null,null,null,null,null,"Документи додано до цінової пропозиції\n(ТАК / НІ)"]
[{"$f":"'Запит на закупівлю'!A51","v":1},{"$f":"'Запит на закупівлю'!B51:F51","v":"Підприємства (ТОВ, ВАТ, ЗАТ, Приватні підприємства тощо) копії свідоцтва про державну реєстрацію юридичної особи (для зареєстрованих до 07.05.2011 року, якщо їм не було видано виписку) або Виписка з Єдиного державного реєстру юридичних осіб та фізичних осіб-підприємців та ліцензії (якщо вид діяльності ліцензується). Для фізичних осіб-підприємців (ФОП) на єдиному податку – копія свідоцтва про державну реєстрацію (для зареєстрованих до 07.05.2011 року, якщо їм не було видану Виписку) або Виписка з Єдиного державного реєстру юридичних осіб, фізичних осіб-підприємців та громадських формувань та копію діючої ліцензії (якщо вид діяльності ліцензується); Для фізичних осіб- підприємців (ФОП) на загальній системі оподаткування – копії свідоцтва про державну реєстрацію (для зареєстрованих до 07.05.2011 року, якщо їм не було видано Виписку) або Виписка з Єдиного державного реєстру юридичних осіб, фізичних осіб-підприємців та громадських формувань та ліцензії (якщо вид діяльності ліцензується)."},null,null,null,null,"так"]
[{"$f":"'Запит на закупівлю'!A52","v":2},{"$f":"'Запит на закупівлю'!B52:F52","v":"Всі копії будь-яких документів, що включаються в тендерну пропозицію, мають бути обов’язково завіреними підписом учасника, а якщо учасником є юридична особа, то печаткою та підписом уповноваженої особи. До тендерної пропозиції повинні додаватись документи, які посвідчують право такої уповноваженої особи підписувати тендерну пропозицію (наказ про призначення керівника або довіреність)."},null,null,null,null,"так"]
["*Відсутність зазначених документів може призвезти до автоматичної дискваліфікації"]
[]
[]
["Своїм підписом підтверджуємо зобов’язання у випадку акцепту цієї пропозиції Організацією:"]
["1.  Не вносити жодних змін до цієї пропозиції та дотримуватись умов цієї пропозиції протягом періоду дії пропозиції, який становить – 30 календарних днів з дати подачі пропозиції. Ця цінова пропозиція може бути прийнята (акцептована) Організацією в будь-який момент до завершення періоду її дії; "]
["2. Підписати договір поставки/надання послуг або виконання робіт протягом 30-и днів з дати прийняття (акцепту) цієї цінової пропозиції з обов’язковим дотриманням положень вимог оголошення;"]
["3.  Поставити необхідний товар, виконати роботи або надати послуги у відповідності до умов цієї цінової пропозиції та проекту договору поставки (якщо є додатком до оголошення);"]
["4.  Забезпечити повноту та точність виконання цієї цінової пропозиції за формою, цінами/тарифами та у строки, вказані у цій ціновій пропозиції та оголошенні."]
[]
["Підписанням та поданням цієї цінової пропозиції учасник погоджується з наступним:"]
["1. Організація не зобов’язана приймати найкращу за ціною пропозицію чи будь-яку із отриманих пропозицій. До моменту підписання договору про закупівлю Організація не несе жодних зобов’язань по відношенню до учасників закупівлі або потенційних учасників закупівлі;"]
["2. Організація залишає за собою право відхилити цінові пропозиції всіх учасників процедури закупівлі;"]
["3. Організація  залишає за собою право застосувати процедуру редукціону;"]
["4. Дана цінова  пропозиція та оголошення є невід’ємними частинами відповідного договору на закупівлю товарів/послуг, що буде укладений Організацією з переможцем конкурсних торгів;"]
["5. Учасник ознайомлений з Кодексом поведінки постачальників http://network.org.ua/wp-content/uploads/2017/03/Kodeks-povedinki-postachalnikiv.pdf"]
["6. Участь у конкурсних торгахі пов’язаних осіб або ж змова учасників торгів забороняється. У разі виявлення таких фактів, результати торгів  буде відмінено або договір з відповідним постачальником буде достроково розірвано в односторонньому порядку з поверненням всього отриманого таким постачальником за договором та відшкодуванням збитків завданих Організації;"]
["7. Цим підтверджуємо(-ю) нашу(-мою) юридичну, фінансову та іншу спроможність виконати умови даної цінової пропозиції та оголошення, укласти договір на закупівлю товарів/послуг та правдивість всіх відомостей зазначених у цій ціновій пропозиції."]
[]
["Уповноважений підписати цінову пропозицію для та від імені [назва юридичної особи] згідно  [статуту або довіреності]:"]
[]
[]
[]
[" __________________________                      _________________________           _______________________________________________________      "]
[null,"(підпис)",null,"(ПІБ)",null,"посада (для юридичних осіб)   "]
[]
[]
[]
[]
[]
[]
[]
[]
[]
[]
[]
[]
[]
[]
[]
["так"]
["ні"]