Workbook

Sheet Summary
B1: =Budget!D1 -> CLEAR-RFA-02-2023
B2: Name of RCSO / Назва організації
B3: Name of the project / Назва проекту:
B4: Expected timeframe of the project implementation / Очікувані часові рамки реалізації проекту:
B7: Detailed budget / Детальний бюджет | C7: =B1 -> CLEAR-RFA-02-2023
B9: Name of RCSO / Назва організації
B10: Name of the project / Назва проекту:
B11: Очікуваний період виконання/Duration:
B13: INPUT CATEGORIES / ВИХІДНІ КАТЕГОРІЇ | C13: Budget Proposal
B14: I. Personnel | C14: =Budget!I24 -> 16530
B15: II. Fringe Benefits / Соціальні внески | C15: =Budget!I27 -> 880
B16: III. Travel, Transportation & Per Diem / Проїзд, транспорт і добові | C16: =Budget!I30 -> 1020
B17: IV. Equipment and Supplies / Обладнання та витратні матеріали | C17: =Budget!I35 -> 1140
B18: V. Program Trainings / Програмні тренінги - заходи | C18: =Budget!I38 -> 10830
B19: VІ. Other Program Activities / Інші програмні активності | C19: =Budget!I44 -> 1560
B20: VII. Other Direct Costs - Інші прямі витрати | C20: =Budget!I51 -> 0
B21: Total Program US$ / Загальна вартість Програми у доларах США | C21: =SUM(C14:C20) -> 31960

Sheet Budget
D1: CLEAR-RFA-02-2023 | H1: * The figures of salary, remuneration and other expenses given in the budget (columns 4-5) are provided only for example!!!
H2: * Наведені в кошторисі цифри заробітної плати, винагороди та інших видатків (колонки 4-5) наведені лише для прикладу!!!
B4: Name of RCSO / Назва організації
B5: Name of the project / Назва проекту:
B6: Expected timeframe of the project implementation / Очікувані часові рамки реалізації проекту:
D8: Year 1 (August 16, 2023 -December 31, 2023) (4.5 Months) | I8: Загальна сума заявки/Total, $ USD | J8: Budget NOTES / Опис бюджету
B9: Budget Detail / Бюджетні статті | C9: Unit / Одиниця виміру | D9: Quantity / Кількість персоналу на одну позицію | E9: LOE / Обсяг зайнятості (%) | F9: Unit Cost / Вартість одиниці, $ USD | G9: Number of units / Кількість одиниць | H9: Amt (US$) / Сума
B11: 1 | C11: 2 | D11: 3 | E11: 4 | F11: 5 | G11: 6 | H11: 7 | I11: 8 | J11: 9
A12: 1 | B12: I. Personnel | J12: I. Personnel: Brief description of duties/ Короткий опис обов’язків
B13: a. Labor Agreements, including civil low agreements / a. Трудові договори, в тому числі цивільно-правові | J13: =B13 -> a. Labor Agreements, including civil low agreements / a. Трудові договори, в тому числі цивільно-правові
A14: 1.1. | B14: Project manager / Прєктний менеджер, ПІБ / Name | C14: Month | D14: 1 | E14: 0.5 | F14: 1000 | G14: 8 | H14: =D14*F14*E14*G14 -> 4000 | I14: =H14 -> 4000 | J14: for example/ приклад: The project managerВолодимир Volodymyr Bylonozko is the head of the organization, duties: General project management, coordination of consultants and project experts / Проєктний менеджер Володимир Білоножко є головою організації, обов'язки: загальне керівництво проєктом, координація консультантів та експертів проєкту Fixed-term employment agreement / буде працювати за строковим трудовим договором: 8 місяців* 50% * 1000 дол.
A15: 1.2.
A16: 1.3.
B17: b. Private Entrepreneurs / b. Приватні підприємці | J17: =B17 -> b. Private Entrepreneurs / b. Приватні підприємці
A18: 1.4 | B18: Прєктний координатор (5 громад) / Project Coordinator (5 communities), ПІБ / Name | C18: Month | H18: =D18*F18*E18*G18 -> 0 | I18: =H18 -> 0
A19: 1.5 | B19: Бухгалтер / Accountant, ПІБ / Name | C19: Month | D19: 1 | E19: 0.5 | F19: 800 | G19: 8 | H19: =D19*F19*E19*G19 -> 3200 | I19: =H19 -> 3200 | J19: for example/ приклад: Project accountant Ivanenko Hanna Ivanivna, duties: current and strategic planning of the financial resources of the NGO Ensuring timely preparation of financial reports of the Organization the project / Бухгалтер проекту Іваненко Ганна Іванівна, обов'язки: поточне та стратегічне планування фінансових ресурсів ГО забезпечення вчасної підготовки фінансових звітів Організації за проектом Сontract with private entrepreneur / угода з ФОП 8 місяців* 50% * 800 дол
A20: 1.6 | B20: Комунікаційний менеджер, ПІБ / Communication manager, full name | C20: Day | D20: 1 | E20: 1 | F20: 55 | G20: 30 | H20: =D20*F20*E20*G20 -> 1650 | I20: =H20 -> 1650 | J20: for example/ приклад: Комунікаційний менеджер, Петренко Марія, функції: Ведення сторінок, дизайн, реклама в соцмережах проєкт та його результати - 15 днів. Поїздки у громади для збору інформації та інформаційного супроводу заходів в громадах - 15 днів. Page management, design, social media advertising The project and its results – 15 days. Trips to communities to collect information and informational support of events in communities – 15 days. Разом / Total: 30 days
A21: 1.7 | B21: Координатори громад / Community coordinators (Names / ПІБ) / 2 особи / persons | C21: Month | D21: 2 | E21: 0.8 | F21: 600 | G21: 8 | H21: =D21*F21*E21*G21 -> 7680 | I21: =H21 -> 7680
A22: 1.8 | B22: Фахівець з закупівель / Procurement specialist | C22: Month | H22: =D22*F22*E22*G22 -> 0 | I22: =H22 -> 0 | J22: for example/ приклад: Фахівець з закупівель Серко Марія Іванівна, обов"язки: закупівлі гуманітраних наборів, оформлення відбору постачальників згідно з вимогами політики з закупівель та вимог донора / Procurement Specialist Maria Ivanivna Serko, responsibilities: procurement of humanitarian kits, selection of suppliers in accordance with the requirements of the procurement policy and donor requirements.
C23: Month | H23: =D23*F23*E23*G23 -> 0 | I23: =H23 -> 0
B24: Subtotal - Personnel | F24: =SUM(F12:F17) -> 1000 | H24: =SUM(H12:H23) -> 16530 | I24: =SUM(I12:I23) -> 16530
B25: II. Fringe Benefits / Соціальні внески | J25: II. Fringe Benefits: the amount of the Single Social Contribution is calculated automatically / сума Єдиного Соціального внеску розраховується автоматично
A26: 2 | B26: Fringe Benefits - Labor Agreements and Civil Low Agreements (Single Social Contribution 22%) / Додаткові пільги для трудових угод та цивільно-правових угод (ЄСВ 22%) | C26: Lump Sum | D26: 0.22 | E26: 1 | F26: =SUM(H14:H16) -> 4000 | G26: 1 | H26: =F26*E26*G26*D26 -> 880 | I26: =H26 -> 880
B27: Subtotal - Fringe Benefits | H27: =H26 -> 880 | I27: =I26 -> 880
B28: III. Travel, Transportation & Per Diem / Проїзд, транспорт і добові | J28: III. Travel, Transportation & Per Diem / / Проїзд, транспорт і добові
A29: 3 | B29: Travel, Transportation & Per Diem / Проїзд, транспорт і добові | H29: ='III. Travel, Transportation & '!J37 -> 1020 | I29: =H29 -> 1020 | J29: Please fill in tab III. Travel, Transportation & . The total amount of travel expenses will be displayed here automatically / Прохання заповнити вкладку III. Travel, Transportation & . Загальну сума витрат на поїздки буде відобрежена здесь автоматично
B30: Subtotal - Travel, Transportation & Per Diem | H30: =SUM(H28:H29) -> 1020 | I30: =SUM(I28:I29) -> 1020
A31: 4 | B31: IV. Equipment and Supplies / Обладнання та витратні матеріали | J31: IV. Equipment and Supplies / Обладнання та витратні матеріали
A32: 4.1 | B32: For example: Office Supplies / Наприклад: Канцелярське приладдя | C32: Month | E32: 0.2 | F32: 150 | G32: 8 | H32: =F32*E32*G32 -> 240 | I32: =H32 -> 240
A33: 4.2 | B33: For example: Laptops & Accessories / Наприклад: ноутбуки та аксесуари | C33: Unit | E33: 1 | F33: 900 | G33: 1 | H33: =F33*E33*G33 -> 900 | I33: =H33 -> 900 | J33: Please justify the necessity of purchasing equipment for the organization: who and where will the equipment be used / Обгрунтуйте , будь ласка, необхідність закупівлі обладнання для організації: хто та де буде обладнанням користуватися
H34: =D34*F34*E34*G34 -> 0 | I34: =H34 -> 0
B35: Subtotal - Equipment and Supplies | H35: =SUM(H31:H34) -> 1140 | I35: =SUM(I31:I34) -> 1140
B36: V. Program Trainings / Програмні тренінги - заходи | J36: V. Program Trainings / Програмні тренінги - заходи
A37: 5 | B37: Program Trainings / Програмні тренінги - заходи | C37: Lump Sum | H37: ='V. Program Trainings'!E48 -> 10830 | I37: =H37 -> 10830 | J37: Please add the budget for each event in the Program Trainings tab. The amount of all expenses for events and trainings will be automatically added to the general budget. / Будь ласка, у вкладці Program Trainings додайте бюджет кожного заходу. Сума усіх витрат по заходам та тренінгам автоматично підтягниться в загальний бюджет.
B38: Subtotal - Program Trainings | H38: =SUM(H36:H37) -> 10830 | I38: =SUM(I36:I37) -> 10830
A39: 6 | B39: VІ. Other Program Activities / Інші програмні активності | J39: VІ. Other Program Activities / Інші Програмні активності - До інших програмних витрат входять витрати на підтримку програмної діяльності, які не війшли в треніги/заходи. Наприклад друк промоматеріалів, трансопртні послуги на дістрібюцію адресної допомоги, консултаційні послуги з праврових питань тощо/ Other program costs include program support costs that are not included in training/events. For example, printing of promotional materials, transport services for the distribution of targeted assistance, consulting services on legal issues etc.
A40: 6.1 | B40: Наприклад: транспортні послуги на дистрибуцію / For example: transport services for distribution | C40: Lump Sum | E40: 1 | F40: 560 | G40: 1 | H40: =F40*E40*G40 -> 560 | I40: =H40 -> 560
A41: 6.2 | B41: Наприклад: послуги з друку промо-матеріалів / For example: services for printing promotional materials | C41: Lump Sum | E41: 1 | F41: 1000 | G41: 1 | H41: =F41*E41*G41 -> 1000 | I41: =H41 -> 1000
A42: 6.3 | C42: Lump Sum | E42: 1 | G42: 1 | H42: =F42*E42*G42 -> 0 | I42: =H42 -> 0
C43: Lump Sum | E43: 1 | G43: 1 | H43: =F43*E43*G43 -> 0 | I43: =H43 -> 0
...

Sheet III.  Travel, Transportation & 
B3: Detailed budget | C3: транспорт та добові/Travel, Transportation | E3: =Budget!D1 -> CLEAR-RFA-02-2023
B4: Name of the project / Назва проекту: | C4: CLEAR
B5: Expected timeframe of the project implementation / Очікувані часові рамки реалізації проекту:
B9: Категорія витрат/items | C9: Місто початку відрядження / town beginning of the trip | D9: До міста/to the town | E9: Кінцеве місто/final town | F9: Відстань, км (для поїздок автомобілем) на / Distance, km (for travel by car) | G9: Одиниця/unit of measurement | H9: Вартість одиниці (квитка / км ) /cost for the unit (ticket / km) of measurement, $ USD | I9: Кількість/Number of units | J9: Сума заявки/Application sum | K9: Budget NOTES / Опис бюджету
B10: 1 | C10: 2 | D10: 3 | E10: 4 | F10: 5 | G10: 6 | H10: 7 | I10: 8 | J10: 9=(5)*7*8
B11: Регіональні відрядження/Regional Travel, Transportation
B12: а) Поїздом, автобусом / a) By train, bus | C12: Lviv | D12: Chernivtsi | E12: Lviv | F12: х | G12: квіток /ticket | H12: 30 | I12: 25 | J12: =H12*I12 -> 750
B13: б) Поїздки автомобілем / b) Trips by car | K13: Add details: - the purpose of the project team members' trip + reference to the item of the work plan in the application (technical proposal); - Title or Name of the members of the project team specified in the budget in section I. Personnel
G14: поїздки/trips | K14: Додайте деталі: - мета поїздки членів команди проєкту + посилання на пункт робочого плану у заявці (технічній пропозиції); - хто (посада, ПІБ) з членів команду проєкти , вказаних в бюджеті в розділі I. Personnel
C15: Chernivtsi | D15: Nedobaivtsy (Chernivtsi obl) | E15: Chernivtsi | F15: 120 | G15: км / km | H15: 0.6 | I15: 3 | J15: =F15*H15*I15 -> 216
C16: Chernivtsi | D16: Veliky Kuchuriv (Chernivtsi obl) | E16: Chernivtsi | F16: 30 | G16: км / km | H16: 0.6 | I16: 3 | J16: =F16*H16*I16 -> 54
G17: км / km | J17: =F17*H17*I17 -> 0
G18: км / km | J18: =F18*H18*I18 -> 0
G19: км / km | J19: =F19*H19*I19 -> 0
G20: км / km | J20: =F20*H20*I20 -> 0
G21: км / km | J21: =F21*H21*I21 -> 0
G22: км / km | J22: =F22*H22*I22 -> 0
G23: км / km | J23: =F23*H23*I23 -> 0
G24: км / km | J24: =F24*H24*I24 -> 0
G25: км / km | J25: =F25*H25*I25 -> 0
G26: км / km | J26: =F26*H26*I26 -> 0
G27: км / km | J27: =F27*H27*I27 -> 0
G28: км / km | J28: =F28*H28*I28 -> 0
... G34: км / km | J34: =F34*H34*I34 -> 0
B35: в) Добові - Per diem | F35: х | G35: діб/days | J35: =H35*I35 -> 0
B36: c) Проживання = accommodation | G36: діб/days | J36: =H36*I36 -> 0
B37: РАЗОМ - відрядження, транспорт та добові/TOTAL - Travel, Transportation & Per Diem | J37: =SUM(J11:J36) -> 1020

Sheet V.  Program Trainings
B1: =Budget!D1 -> CLEAR-RFA-02-2023
A2: 5.1 | B2: V. Program Trainings | F2: Budget NOTES / Опис бюджету
B3: Назва заходу, місто (назва міста, громади) проведення / Title of event, place (city, community) of conducting: | F3: Додайте сюди посилання на номер № у Робочому плані проєкту в Технічній заявці, де йде мова про цей захід та дати проведення/ Add here the reference (№) to the Work Plan number in the Technical Application where this activity is described and date of implementation.
F4: for example/ приклад: Task 1. General organizational tasks for project 1.4 The conference on project results, December 2023 / Завдання 1. Загальні організаційні завдання проекту 1. Конференція за підсумками проекту, грудень 2023
B5: Тривалість заходу (дні) / Duration (days) | E5: 1 | F5: місто (назва міста, громади) проведення / place (city, community) of conducting:
B6: Кількість заходів / Number of events | E6: 1
B7: Кількість учасників заходу / Number of participants per event | E7: 20
B8: Кількість тренерів заходу / Number of trainers per event | E8: 2
C9: Вартість одиниці/Вартість одиниці/cost for the unit of measurement | D9: Одиниця/item | E9: Разом/Total
B10: Renting premise / Оренда приміщення | C10: 100 | D10: =E5*E6 -> 1 | E10: =C10*D10 -> 100 | F10: for example/ приклад: оренда конференц залу в м. Чернівці 1 день (8 годин) * 100 дол. / rent of a conference hall in Chernivtsi for 1 day (8 hours) * $100
B11: Trainers travel (Name) / Проїзд тренерів (ПІБ) : | C11: 20 | D11: =E8*E6 -> 2 | E11: =C11*D11 -> 40 | F11: for example/ приклад: 1 event * 2 trainers * $20 / 1 захід * 2 тренери * 20 дол
B12: Participants travel / Проїзд учасників: | C12: 10 | D12: =E7*E6 -> 20 | E12: =C12*D12 -> 200 | F12: for example/ приклад: 1 event * 20 participants * $10 / 1 захід * 5 учасників з інших населених пунктів громади * 10 дол
B13: Participants accommodation / Проживання учасників | C13: 30 | D13: =E7*E6*E5 -> 20 | E13: =C13*D13 -> 600 | F13: for example/ приклад: $30 * 1 day * 5 participants / 30$ * 1 день * 5 учасників
B14: Trainers accommodation / Проживання тренерів | C14: 25 | D14: =E5*E6*E8 -> 2 | E14: =C14*D14 -> 50 | F14: for example/ приклад: 2 trainers* 1 event * 1 day *$25
B15: Trainers' remuneration (TBD or name - the Trainers' remuneration costs have to be included in the event budget only if trainers are not members of the sub-grant team or their days/hours are included in the VI. Other Program Activities) / Винагорода тренерам (витрати на тренерів включаються в бюджет заходів, тільки якщо вони не члени команди субгранту або їх дні/години занесені в VI. Інші прямі активності) (ПІБ якщо знаєте хто): | C15: 100 | D15: =E5*E6*E8 -> 2 | E15: =C15*D15 -> 200 | F15: for example/ приклад: 2 trainers* 1 events* 1 day* $100 rate /2 тренера* 1 подія* 1 день* 100$
B16: Participants refreshment / Харчування учасників | C16: 20 | D16: =(E7+E8)*E5*E6 -> 22 | E16: =C16*D16 -> 440 | F16: for example/ приклад: (20 осіб +2 тренера) * 1 подія* 1 день * $20 / (20 persons +2 trainers) * 1 events * 1 day * 20 дол
B17: Materials (hand-outs) for the participants / Роздаткові матеріали | C17: 3.5 | D17: =E7 -> 20 | E17: =C17*D17 -> 70 | F17: Please provide the details / Будь ласка, додайти опис, що саме планується у складі роздаткового матеріалу: for example/ приклад: $3.5 * 20 participants / 3.5 дол * 20 учаснииків. Hand-outs for the participants: pen, notebook, individual masks and hand antiseptics, printed materials / роздатковий матеріал для учасників: ручка, блокнот, індивідуальні маски та антисептики для рук, друкована продукція
B20: РАЗОМ/TOTAL | E20: =SUM(E10:E19) -> 1700
B21: Cost for 1 events | E21: =E20/E6 -> 1700
A24: 5.2 | B24: Назва заходу, місто (назва міста, громади) проведення / Title of event, place (city, community) of conducting: | F24: Додайте сюди посилання на номер № у Робочому плані проєкту в Технічній заявці, де йде мова про цей захід / Add here the reference (№) to the Work Plan number in the Technical Application where this activity is described
F25: for example/ приклад: Task 1. General organizational tasks for project 1.4 The conference on project results / Завдання 1. Загальні організаційні завдання проекту 1. Конференція за підсумками проекту
B26: Тривалість заходу (дні) / Duration (days) | E26: 2 | F26: місто (назва міста, громади) проведення / place (city, community) of conducting:
B27: Кількість заходів / Number of events | E27: 3
B28: Кількість учасників заходу / Number of participants per event | E28: 20
B29: Кількість тренерів заходу / Number of trainers per event | E29: 2
C30: Вартість одиниці/Вартість одиниці/cost for the unit of measurement | D30: Одиниця/item | E30: Разом/Total
B31: Renting premise / Оренда приміщення | C31: 100 | D31: =E26*E27 -> 6 | E31: =C31*D31 -> 600 | F31: for example/ приклад: оренда конференц залу в м. Чернівці 2 дні *3 events * 100 дол. / rent of a conference hall in Chernivtsi for 2 days *3 дні * $100
B32: Проїзд тренерів (ПІБ) / Travel of trainers (Trainers Names TBD): | C32: 20 | D32: =E29*E27 -> 6 | E32: =C32*D32 -> 120 | F32: for example/ приклад: 3 events * 2 trainers * $20 / 3 заходи * 2 тренери * 20 дол
B33: Participants travel / Проїзд учасників: | C33: 10 | D33: =E28*E27 -> 60 | E33: =C33*D33 -> 600 | F33: for example/ приклад: 3 event * 20 participants* $10 / 3 заходи * 20 учасників * 10 дол
B34: Participants accommodation / Проживання учасників | C34: 30 | D34: =E28*E27*E26 -> 120 | E34: =C34*D34 -> 3600 | F34: for example/ приклад: $30 * 2 day *3 events* 20 participants / 30$ * 2 дні *3 заходи* 20 учасників
B35: Trainers accommodation / Проживання тренерів | C35: 25 | D35: =E26*E27*E29 -> 12 | E35: =C35*D35 -> 300 | F35: for example/ приклад: 2 trainers* 3 events *2 days *$25 / 2 тренера* 3 події *2 дні *25$
B36: Trainers' remuneration (TBD or name - the Trainers' remuneration costs have to be included in the event budget only if trainers are not members of the sub-grant team or their days/hours are included in the VI. Other Program Activities) / Винагорода тренерам (витрати на тренерів включаються в бюджет заходів, тільки якщо вони не члени команди субгранту або їх дні/години занесені в VI. Інші прямі активності) (ПІБ якщо знаєте хто): | C36: 100 | D36: =E26*E27*E29 -> 12 | E36: =C36*D36 -> 1200 | F36: for example/ приклад: 2 trainers* 3 events* 2 day* $100 rate /2 тренера* 2 заходи* 3 дні* 100$
B37: Participants refreshment / Харчування учасників | C37: 20 | D37: =(E28+E29)*E26*E27 -> 132 | E37: =C37*D37 -> 2640 | F37: for example/ приклад: (20 осіб +2 тренера) * 3 події* 2 дні * $20 / (20 persons +2 trainers) * 3 events * 2 days *20 дол
B38: Materials (hand-outs) for the participants / Роздаткові матеріали | C38: 3.5 | D38: =E28 -> 20 | E38: =C38*D38 -> 70 | F38: Please provide the details / Будь ласка, додайти опис, що саме планується у складі роздаткового матеріалу: for example/ приклад: $3.5 * 20 participants / 3.5 дол * 20 учаснииків. Hand-outs for the participants: pen, notebook, individual masks and hand antiseptics, printed materials / роздатковий матеріал для учасників: ручка, блокнот, індивідуальні маски та антисептики для рук, друкована продукція
B41: РАЗОМ/TOTAL | E41: =SUM(E31:E40) -> 9130
B42: Cost for 1 events | E42: =E41/E27 -> 3043.3333
B48: Підсумок - Тренінги та Зустрічі/Total Trainings, Meetings | E48: =E20+E41 -> 10830
B51: Number of events: | E51: =E6+E27 -> 4
A54: * | B54: Ви можете додавати необхідну кількість тренінгів/заходів
B55: You can add the required number of trainings/events
